BEGIN:VCALENDAR
PRODID:NingEventWidget-v1
VERSION:2.0
METHOD:PUBLISH
BEGIN:VTIMEZONE
TZID:Europe/London
X-LIC-LOCATION:Europe/London
BEGIN:DAYLIGHT
TZOFFSETFROM:+0000
TZOFFSETTO:+0100
TZNAME:BST
DTSTART:19700329T010000
RRULE:FREQ=YEARLY;BYMONTH=3;BYDAY=-1SU
END:DAYLIGHT
BEGIN:STANDARD
TZOFFSETFROM:+0100
TZOFFSETTO:+0000
TZNAME:GMT
DTSTART:19701025T020000
RRULE:FREQ=YEARLY;BYMONTH=10;BYDAY=-1SU
END:STANDARD
END:VTIMEZONE
BEGIN:VEVENT
UID:4626108:Event:6942
DTSTAMP:20260422T203631Z
SUMMARY:The Lunch Forum, Haslemere
DESCRIPTION:The Lunch Forum at the Inn on the Hill\n\nThe Lunch Forum 
 provides an opportunity for existing and aspiring Entrepreneurs, Owner
  Managers, Directors and Partners to discuss business issues and share
  opportunities with like-minded individuals.\nIt doesnâ€™t have to be 
 lonely at the top!Â  Why reinvent the wheel, when there is likely to b
 e someone else present who has faced similar issues?\nThe event takes 
 place in a restaurant over lunch, and attendees usually arrive between
  12.00 and 12.15.Â  There will be an opportunity for everyone to brief
 ly describe their business, as well as any issues they would like to d
 iscuss.Â  Many events have a specific theme, and facilitation is provi
 ded by a specialist in that field.\nAdvance booking is necessary - num
 bers are limited to a maximum of 8 for these events, and places will b
 e allocated on a 'first come first served' basis.Â  Lunch and wine isÂ
  provided\nCOST: Â£30 in advance OR Â£35 on the day, including 2 cours
 eÂ lunch, wine and coffee. Please note that if payment is not made by 
 the event close, the cost will be Â£35\nCLICK HERE for further details
  and to BOOK NOW\n\nMAP\n------------------------------------------\nP
 eal Networking Club is run by NiS Member Philip Mendonca. It has no at
 tendance commitments, nor does it have any membership or annual fees.Â
  Feel free to 'dip in and out' of monthly events as suits.\nÂ \n\nFor 
 more information visit https://networkinginsurrey.co.uk/events/the-lun
 ch-forum-haslemere-1
DTSTART;TZID=Europe/London:20110208T120000
DTEND;TZID=Europe/London:20110208T140000
CATEGORIES:networking, lunch, haslemere
LOCATION:Inn on the Hill GU27 2PD
WEBSITE:
URL:
CONTACT:
ORGANIZER;CN="Philip MendonÃ§a":https://networkinginsurrey.co.uk/profi
 le/PhilipMendonca
ATTACH;FMTTYPE="image/jpeg":http://storage.ning.com/topology/rest/1.0/
 file/get/180259316?profile=original
ATTENDEE;ROLE=REQ-PARTICIPANT;PARTSTAT=ACCEPTED;RSVP=TRUE;CN="Philip M
 endonÃ§a":https://networkinginsurrey.co.uk/profile/PhilipMendonca
END:VEVENT
END:VCALENDAR
