BEGIN:VCALENDAR
PRODID:NingEventWidget-v1
VERSION:2.0
METHOD:PUBLISH
BEGIN:VTIMEZONE
TZID:Europe/London
X-LIC-LOCATION:Europe/London
BEGIN:DAYLIGHT
TZOFFSETFROM:+0000
TZOFFSETTO:+0100
TZNAME:BST
DTSTART:19700329T010000
RRULE:FREQ=YEARLY;BYMONTH=3;BYDAY=-1SU
END:DAYLIGHT
BEGIN:STANDARD
TZOFFSETFROM:+0100
TZOFFSETTO:+0000
TZNAME:GMT
DTSTART:19701025T020000
RRULE:FREQ=YEARLY;BYMONTH=10;BYDAY=-1SU
END:STANDARD
END:VTIMEZONE
BEGIN:VEVENT
UID:4626108:Event:531762
DTSTAMP:20260419T152729Z
SUMMARY:The Guildford Athena Network Lunchtime Online
DESCRIPTION:The Athena Network: Guildford Group\n\n\nYou're welcome to
  visit us at our monthly business networking meeting, with like-minded
  businesswomen, entrepreneurs, and executives. We are a fabulous group
  of women from a wide range of industry sectors, who are passionate ab
 out their business and who are looking to connect with and build profe
 ssional relationships with other local businesswomen.\nNot just a netw
 orking group, The Athena Network has three aims: \n\nto create strate
 gic connections/ collaborations\nto deliver and develop business skill
 s through our business talks and workshops\nto inspire, motivate and s
 upport the women in our network\n\nAbout Athena Meetings\nAthena meeti
 ngs are structured, interactive, informative, and professional whilst 
 being fun and relaxed, providing the perfect combination for strong bu
 siness partnerships. We aim to create a vibrant, thriving, and dynamic
  community of women entrepreneurs and executives who collaborate and c
 onnect with like-minded women.\nOur meetings start at 12 pm with \"ope
 n Zoom Room networking\" followed by a structured meeting until 2 pm. 
 You'll have the opportunity to present a 60-second \"pitch\" for your 
 business so that we know who to connect you with and how to support yo
 u. We also have a different Business Development Training speaker each
  month.\nThis month our Business Development Training speaker will be:
 \nRiya Jadhav from iDigitalise Ltd. She will be speaking on 'Quick Tip
 s to Optimising your Website'. Website performance can be tricky to ju
 dge — it's not as simple as looking at an email open rate or how man
 y likes you get on a social media post. Riya will share, why it is cru
 cial that your website is optimised and ready at all times, for your n
 ew visitors, existing customers, search engines, partners etc. and a f
 ew quick tips that you can take action on immediately; so that you can
  improve your website.\nBooking your Place\nVisitors are welcome, but 
 booking is essential. We operate a one slot per profession policy, so 
 please ensure you provide your profession details with your booking. I
 f you would like to check to see if your profession isn't locked out b
 efore booking, please feel free to contact me directly.\nSPECIAL OFFER
 \nIf you choose to join us after attending an online meeting, your vis
 itor fee will be offset against the subscription fee, meaning you effe
 ctively visit for free! \nCOST: £30\nBOOKING: Please CLICK HERE to
  book\n---------------------------------------------------------------
 ----- To find out more about Athena, please: • call me on 07501 1241
 13 • email: doris.holleufer@theathenanetwork.com\n\n\nFor more infor
 mation visit https://networkinginsurrey.co.uk/events/the-guildford-ath
 ena-network-lunchtime-online
DTSTART;TZID=Europe/London:20220223T120000
DTEND;TZID=Europe/London:20220223T140000
CATEGORIES:virtual, networking
LOCATION:Guildford
WEBSITE:
URL:
CONTACT:
ORGANIZER;CN="Doris Holleufer":https://networkinginsurrey.co.uk/profil
 e/DorisHolleufer88
ATTACH;FMTTYPE="image/jpeg":https://storage.ning.com/topology/rest/1.0
 /file/get/9194563867?profile=original
ATTENDEE;ROLE=REQ-PARTICIPANT;PARTSTAT=ACCEPTED;RSVP=TRUE;CN="Doris Ho
 lleufer":https://networkinginsurrey.co.uk/profile/DorisHolleufer88
END:VEVENT
END:VCALENDAR
