BEGIN:VCALENDAR
PRODID:NingEventWidget-v1
VERSION:2.0
METHOD:PUBLISH
BEGIN:VTIMEZONE
TZID:Europe/London
X-LIC-LOCATION:Europe/London
BEGIN:DAYLIGHT
TZOFFSETFROM:+0000
TZOFFSETTO:+0100
TZNAME:BST
DTSTART:19700329T010000
RRULE:FREQ=YEARLY;BYMONTH=3;BYDAY=-1SU
END:DAYLIGHT
BEGIN:STANDARD
TZOFFSETFROM:+0100
TZOFFSETTO:+0000
TZNAME:GMT
DTSTART:19701025T020000
RRULE:FREQ=YEARLY;BYMONTH=10;BYDAY=-1SU
END:STANDARD
END:VTIMEZONE
BEGIN:VEVENT
UID:4626108:Event:69092
DTSTAMP:20260421T083838Z
SUMMARY:The Great British Business Show
DESCRIPTION:The Great British Business Show & Start-Up Show at Olympia
 \n\nBusiness Startup and The Business Show are coming to Olympia, Lond
 on on the 27th and 28th November and this year the organisers have gon
 e the extra mile to make sure this is the best event they've ever stag
 ed!\nThere will be seminars from some of the biggest names in UK busin
 ess including David Gold, James Caan, Richard Reed, Brad Burton, Doug 
 Richard and Duncan Cheadle.\nSaatchi & Saatchi, Google, Hootsuite, Lon
 don Stock Exchange and Facebook will also be attending - so you need
   to be there too!\n There are 350 exhibitors, 250 seminars by busin
 ess experts, 20 workshops and loads of exciting features for you to en
 joy.\nIf you’re serious about starting or growing a business you won
 ’t get a better chance to learn from so many incredible business peo
 ple and access all the tools you need to achieve your goals.\nCOST: FR
 EE to attend as a Visitor (exhibitor stands subject ot availability -
  price on application, see belpw)\nBOOKING: Go to www.thebusinessshow
 .co.uk for your complimentary ticket.\nMAP\n-------------------------
 ------\nExhibitor space: If you sell products and/or services to busin
 esses and are interested in exhibiting at this great event the please 
 contact Reggie Chard on 01179304927 or e-mail reg.chard@prysmgroup.co.
 uk\n\nFor more information visit https://networkinginsurrey.co.uk/even
 ts/the-great-british-business-show
DTSTART;TZID=Europe/London:20141127T000000
DTEND;TZID=Europe/London:20141128T235900
CATEGORIES:business_expo, london, start-ups, entrepreneurs, seminars
LOCATION:Olympia, Kensington W14 8UX
WEBSITE:
URL:
CONTACT:
ORGANIZER:Prysm
ATTACH;FMTTYPE="image/jpeg":http://storage.ning.com/topology/rest/1.0/
 file/get/2591435083?profile=original
ATTENDEE;ROLE=REQ-PARTICIPANT;PARTSTAT=ACCEPTED;RSVP=TRUE;CN="Keith Gr
 over, NiS Founder":https://networkinginsurrey.co.uk/profile/KeithGrove
 r
ATTENDEE;ROLE=REQ-PARTICIPANT;PARTSTAT=TENTATIVE;RSVP=TRUE;CN="Lord Ha
 milton of Glencoe":https://networkinginsurrey.co.uk/profile/BrianIanHa
 milton
END:VEVENT
END:VCALENDAR
