BEGIN:VCALENDAR
PRODID:NingEventWidget-v1
VERSION:2.0
METHOD:PUBLISH
BEGIN:VTIMEZONE
TZID:Europe/London
X-LIC-LOCATION:Europe/London
BEGIN:DAYLIGHT
TZOFFSETFROM:+0000
TZOFFSETTO:+0100
TZNAME:BST
DTSTART:19700329T010000
RRULE:FREQ=YEARLY;BYMONTH=3;BYDAY=-1SU
END:DAYLIGHT
BEGIN:STANDARD
TZOFFSETFROM:+0100
TZOFFSETTO:+0000
TZNAME:GMT
DTSTART:19701025T020000
RRULE:FREQ=YEARLY;BYMONTH=10;BYDAY=-1SU
END:STANDARD
END:VTIMEZONE
BEGIN:VEVENT
UID:4626108:Event:82745
DTSTAMP:20260424T185542Z
SUMMARY:FREE FX & Stock Trading Evening Seminar Cobham
DESCRIPTION:FREE Dynamic Trader FX and Stock Trading Seminar at Silver
 mere Golf Club\n\nI have been invited to do a presentation on FX and S
 tock trading and how this can be adapted around any lifestyle. \nThis
  is an industry that many are turning to remove the banking system and
  to see far greater returns on your hard earned money. \nI will be sh
 aring proven and simple to learn techniques that have roots from befor
 e the internet. \nThis is a seminar for all levels. \nSee you there!
 \nCOST: FREE - all welcome!\nBOOKING: No need to book - just join us o
 n the night.\nMAP\nAmple free parking on site\n\nFor more information 
 visit https://networkinginsurrey.co.uk/events/the-dynamic-trader-28th-
 september-from-6-30pm-to-9pm-cobham
DTSTART;TZID=Europe/London:20160928T183000
DTEND;TZID=Europe/London:20160928T210000
CATEGORIES:seminar, forex, fx, stocks, trading, money, investing, work
 shop
LOCATION:Silvermere Inn On The Lake KT11 1EF
WEBSITE:https://www.google.com/maps?f=q&hl=en&q=Silvermere+Golf+%26+Le
 isure,+Redhill+Road,+Cobham,+Surrey,+KT11+1EF,+gb
URL:https://www.google.com/maps?f=q&hl=en&q=Silvermere+Golf+%26+Leisur
 e,+Redhill+Road,+Cobham,+Surrey,+KT11+1EF,+gb
CONTACT:020 3006 3101
ORGANIZER;CN="Zaheer Anwari":https://networkinginsurrey.co.uk/profile/
 ZaheerAnwari
ATTACH;FMTTYPE="image/jpeg":http://storage.ning.com/topology/rest/1.0/
 file/get/2591451155?profile=original
ATTENDEE;ROLE=REQ-PARTICIPANT;PARTSTAT=ACCEPTED;RSVP=TRUE;CN="Zaheer A
 nwari":https://networkinginsurrey.co.uk/profile/ZaheerAnwari
END:VEVENT
END:VCALENDAR
