BEGIN:VCALENDAR
PRODID:NingEventWidget-v1
VERSION:2.0
METHOD:PUBLISH
BEGIN:VTIMEZONE
TZID:Europe/London
X-LIC-LOCATION:Europe/London
BEGIN:DAYLIGHT
TZOFFSETFROM:+0000
TZOFFSETTO:+0100
TZNAME:BST
DTSTART:19700329T010000
RRULE:FREQ=YEARLY;BYMONTH=3;BYDAY=-1SU
END:DAYLIGHT
BEGIN:STANDARD
TZOFFSETFROM:+0100
TZOFFSETTO:+0000
TZNAME:GMT
DTSTART:19701025T020000
RRULE:FREQ=YEARLY;BYMONTH=10;BYDAY=-1SU
END:STANDARD
END:VTIMEZONE
BEGIN:VEVENT
UID:4626108:Event:544114
DTSTAMP:20260421T201848Z
SUMMARY:The Corporate Escape Club National Meeting (online)
DESCRIPTION:All B2B professionals and experts are welcome!Â \nMeetings
  are free with a fully refundable booking deposit.\nPlease book your s
 pace via the website:Â https://thecorporateescapeclub.co.uk/book/\nEve
 ry meeting starts with a chance to say 'hello' to other attendees, fol
 lowed by a bite-sized piece of B2B marketing advice to help you promot
 e your business and attract quality leads.\nYou'll then have a series 
 of 10-minute, in-depth conversations with other consultants and profes
 sionals to find out what you have in common and how you can support ea
 ch other through referrals and collaborations.\nOur meetings are where
  independent, professional, consultants and experts can collaborate an
 d grow together.  Theyâ€™re for you if you have already escaped corpor
 ate life and are running an independent consultancy or expert business
  or if youâ€™re just in the early stages of planning your escape!  And
  theyâ€™re designed to complement any networking events you already at
 tend, not to replace them.\nBooking is essential via the link. Thereâ€
 ™s a deposit of Â£48 to secure your place which is refunded on attenda
 nce.\nCOST: FREEÂ (Â£48 deposit - fully refundable only on attendance)
 \nBOOKING:Â PleaseÂ CLICK HEREÂ to pay the deposit and secure your fre
 e placeÂ Â \n\nFor more information visit https://networkinginsurrey.c
 o.uk/events/the-corporate-escape-club-national-meeting-online
DTSTART;TZID=Europe/London:20241001T093000
DTEND;TZID=Europe/London:20241001T113000
CATEGORIES:networking
LOCATION:\"Online
WEBSITE:https://thecorporateescapeclub.co.uk/
URL:https://thecorporateescapeclub.co.uk/
CONTACT:0203 538 6588
ORGANIZER:Emma Tarring &amp; Anneve Hutchison
ATTACH;FMTTYPE="image/jpeg":https://storage.ning.com/topology/rest/1.0
 /file/get/10758519259?profile=original
ATTENDEE;ROLE=REQ-PARTICIPANT;PARTSTAT=ACCEPTED;RSVP=TRUE;CN="Emma Tar
 ring":https://networkinginsurrey.co.uk/profile/EmmaTarring
END:VEVENT
END:VCALENDAR
