BEGIN:VCALENDAR
PRODID:NingEventWidget-v1
VERSION:2.0
METHOD:PUBLISH
BEGIN:VTIMEZONE
TZID:Europe/London
X-LIC-LOCATION:Europe/London
BEGIN:DAYLIGHT
TZOFFSETFROM:+0000
TZOFFSETTO:+0100
TZNAME:BST
DTSTART:19700329T010000
RRULE:FREQ=YEARLY;BYMONTH=3;BYDAY=-1SU
END:DAYLIGHT
BEGIN:STANDARD
TZOFFSETFROM:+0100
TZOFFSETTO:+0000
TZNAME:GMT
DTSTART:19701025T020000
RRULE:FREQ=YEARLY;BYMONTH=10;BYDAY=-1SU
END:STANDARD
END:VTIMEZONE
BEGIN:VEVENT
UID:4626108:Event:531965
DTSTAMP:20260421T062317Z
SUMMARY:The Corporate Escape Club Morning Live! Walton on Thames
DESCRIPTION:The Corporate Escape Club  at Walton Marina\r\n\r\nCalling
  B2B consultants, coaches and professional service providers in Surrey
 !\r\nWould you like a chance to meet fellow professionals for meaningf
 ul 1:1 conversations to explore opportunities for collaboration and mu
 tual support? \r\nWe have just a few slots left at the next meeting o
 f our networking group, The Corporate Escape Club, from 9.30 - 11.30am
  on Thursday 24th February.  This month we're LIVE IN PERSON at our of
 fice by the river in Walton-on-Thames, Surrey. \r\nOur friendly group
  is designed to complement the other networking you already do, not to
  replace it.  It's free to attend - there's just a deposit of £48 to 
 secure your place, which is fully refunded on attendance.  If you can'
 t make it in person, we're back on Zoom on 17th March.\r\nClick on the
  link below to reserve your space at either meeting.\r\nCOST:  FREE -
  but there's a £48 refundable deposit to secure your space (fully ref
 unded on attendance).\r\nBOOKING: Please CLICK HERE to pay the deposi
 t and secure your free place  \r\nMAP\r\n---------------------------
 ---------------------------------\r\n\r\nThese monthly meetings are or
 ganised by Emma Tarring and Anneve Hutchinson of The Marketing Matrix,
  a marketing consultancy based in Walton-on-Thames, Surrey.\n\nFor mor
 e information visit https://networkinginsurrey.co.uk/events/the-corpor
 ate-escape-club-2
DTSTART;TZID=Europe/London:20220224T093000
DTEND;TZID=Europe/London:20220224T113000
CATEGORIES:networking, for, consultants
LOCATION:The Marketing Matrix, Rosewells Boathouse KT12 1QW
WEBSITE:https://thecorporateescapeclub.co.uk/
URL:https://thecorporateescapeclub.co.uk/
CONTACT:0203 538 6588
ORGANIZER:Emma Tarring and Anneve Hutchinson
ATTACH;FMTTYPE="image/jpeg":https://storage.ning.com/topology/rest/1.0
 /file/get/10116083098?profile=original
ATTENDEE;ROLE=REQ-PARTICIPANT;PARTSTAT=ACCEPTED;RSVP=TRUE;CN="Emma Tar
 ring":https://networkinginsurrey.co.uk/profile/EmmaTarring
END:VEVENT
END:VCALENDAR
