BEGIN:VCALENDAR
PRODID:NingEventWidget-v1
VERSION:2.0
METHOD:PUBLISH
BEGIN:VTIMEZONE
TZID:Europe/London
X-LIC-LOCATION:Europe/London
BEGIN:DAYLIGHT
TZOFFSETFROM:+0000
TZOFFSETTO:+0100
TZNAME:BST
DTSTART:19700329T010000
RRULE:FREQ=YEARLY;BYMONTH=3;BYDAY=-1SU
END:DAYLIGHT
BEGIN:STANDARD
TZOFFSETFROM:+0100
TZOFFSETTO:+0000
TZNAME:GMT
DTSTART:19701025T020000
RRULE:FREQ=YEARLY;BYMONTH=10;BYDAY=-1SU
END:STANDARD
END:VTIMEZONE
BEGIN:VEVENT
UID:4626108:Event:85747
DTSTAMP:20260423T195818Z
SUMMARY:THE BOARD Lunch, Guildford
DESCRIPTION:The Board Lunch, Guildford\n\n\n'The Board' was set up for
  senior individuals to discuss business issues with trusted colleagues
 , and to build strong business relationships with a peer group.  \nO
 nly one member of each sector or profession can join each Board. The i
 ntention is that members attend most monthly Board meetings. Confident
 iality of conversations is maintained under the Chatham House rule.\nB
 oard meetings are held over lunch - the bill is equally split amongst 
 Board members. Visitors can try out The Board at a special rate of £2
 5+VAT plus an equal share of the lunchbill.\nCOST: £25+VAT plus lunc
 h costs\nBOOKING: Please CLICK HERE for  more information or email
  philip@pealpartnership.co.uk.\nMAP\n\nFor more information visit http
 s://networkinginsurrey.co.uk/events/the-board-lunch-guildford-2
DTSTART;TZID=Europe/London:20171205T123000
DTEND;TZID=Europe/London:20171205T150000
CATEGORIES:board, networking
LOCATION:Blue Sardinia GU1 3RT
WEBSITE:
URL:
CONTACT:0203 0044779
ORGANIZER;CN="Philip Mendonça":https://networkinginsurrey.co.uk/profi
 le/PhilipMendonca
ATTACH;FMTTYPE="image/jpeg":http://storage.ning.com/topology/rest/1.0/
 file/get/923063544?profile=original
ATTENDEE;ROLE=REQ-PARTICIPANT;PARTSTAT=ACCEPTED;RSVP=TRUE;CN="Philip M
 endonça":https://networkinginsurrey.co.uk/profile/PhilipMendonca
END:VEVENT
END:VCALENDAR
