BEGIN:VCALENDAR
PRODID:NingEventWidget-v1
VERSION:2.0
METHOD:PUBLISH
BEGIN:VTIMEZONE
TZID:Europe/London
X-LIC-LOCATION:Europe/London
BEGIN:DAYLIGHT
TZOFFSETFROM:+0000
TZOFFSETTO:+0100
TZNAME:BST
DTSTART:19700329T010000
RRULE:FREQ=YEARLY;BYMONTH=3;BYDAY=-1SU
END:DAYLIGHT
BEGIN:STANDARD
TZOFFSETFROM:+0100
TZOFFSETTO:+0000
TZNAME:GMT
DTSTART:19701025T020000
RRULE:FREQ=YEARLY;BYMONTH=10;BYDAY=-1SU
END:STANDARD
END:VTIMEZONE
BEGIN:VEVENT
UID:4626108:Event:888
DTSTAMP:20260425T215347Z
SUMMARY:The Biz Club Launch Evening, Guildford
DESCRIPTION:LAUNCH EVENT - NOW MOVED TO MARCH!\nThe Biz Club with Anto
 nio Falco\n\n\nTHIS EVENT HAS BEEN RE-ARRANGED DUE TO DEMAND AND WILL 
 NOW TAKE PLACE ON 24 MARCH - please see our listings...\n\nFor more in
 formation visit https://networkinginsurrey.co.uk/events/the-biz-club-l
 aunch-evening-1
DTSTART;TZID=Europe/London:20100224T180000
DTEND;TZID=Europe/London:20100224T210000
CATEGORIES:evening, guildford
LOCATION:The Mandolay Hotel, Guildford GU1 2AE
WEBSITE:
URL:
CONTACT:
ORGANIZER:Antonio Falco
ATTACH;FMTTYPE="image/jpeg":http://storage.ning.com/topology/rest/1.0/
 file/get/2591376792?profile=original
ATTENDEE;ROLE=REQ-PARTICIPANT;PARTSTAT=ACCEPTED;RSVP=TRUE;CN="Keith Gr
 over, NiS Founder":https://networkinginsurrey.co.uk/profile/KeithGrove
 r
END:VEVENT
END:VCALENDAR
