BEGIN:VCALENDAR
PRODID:NingEventWidget-v1
VERSION:2.0
METHOD:PUBLISH
BEGIN:VTIMEZONE
TZID:Europe/London
X-LIC-LOCATION:Europe/London
BEGIN:DAYLIGHT
TZOFFSETFROM:+0000
TZOFFSETTO:+0100
TZNAME:BST
DTSTART:19700329T010000
RRULE:FREQ=YEARLY;BYMONTH=3;BYDAY=-1SU
END:DAYLIGHT
BEGIN:STANDARD
TZOFFSETFROM:+0100
TZOFFSETTO:+0000
TZNAME:GMT
DTSTART:19701025T020000
RRULE:FREQ=YEARLY;BYMONTH=10;BYDAY=-1SU
END:STANDARD
END:VTIMEZONE
BEGIN:VEVENT
UID:4626108:Event:1996
DTSTAMP:20260426T010129Z
SUMMARY:The Biz Club Evening, Guildford
DESCRIPTION:The Biz Club Evening, Guildford with Antonio Falco\n\nThe 
 Biz Club is not just another networking Club but your chance to fine t
 une the portfolio of skills needed to run a successful business in the
  current economy.\nThe rolling schedule covered at the Biz Club includ
 es Sales, Marketing, Finance, Social Media, Business Strategy & Planni
 ng, and more. Topics are presented by experts whose standard daily rat
 es vastly exceed the club's membership fees! The Biz Club is about gui
 dance, support and fun with liked-minded business people in an enjoyab
 le and convivial atmosphere. And all at a fraction of the cost involve
 d in one-on-one consultancy. The Biz Club is run by NiS Member Antonio
  Falco.\nCOST: £240 plus VAT for 6 months membership OR £60 plus VAT
  1 off taster session. Special Offer April Only - £40 plus VAT\nBOOKI
 NG:To book contact – antonio@antoniofalco.com or sarah@opendoorsales
 .co.uk\nVENUE\nMAP & DIRECTIONS(with downloadable PDFs)\n\nFor more in
 formation visit https://networkinginsurrey.co.uk/events/the-biz-club-e
 vening-guildford
DTSTART;TZID=Europe/London:20100428T180000
DTEND;TZID=Europe/London:20100428T210000
CATEGORIES:evening, guildford, training
LOCATION:The Mandolay Hotel, Guildford GU1 2AE
WEBSITE:http://www.antoniofalco.net/biz-club.php
URL:http://www.antoniofalco.net/biz-club.php
CONTACT:
ORGANIZER:Antonio Falco
ATTACH;FMTTYPE="image/jpeg":http://storage.ning.com/topology/rest/1.0/
 file/get/2591376802?profile=original
ATTENDEE;ROLE=REQ-PARTICIPANT;PARTSTAT=ACCEPTED;RSVP=TRUE;CN="Keith Gr
 over, NiS Founder":https://networkinginsurrey.co.uk/profile/KeithGrove
 r
END:VEVENT
END:VCALENDAR
