BEGIN:VCALENDAR
PRODID:NingEventWidget-v1
VERSION:2.0
METHOD:PUBLISH
BEGIN:VTIMEZONE
TZID:Europe/London
X-LIC-LOCATION:Europe/London
BEGIN:DAYLIGHT
TZOFFSETFROM:+0000
TZOFFSETTO:+0100
TZNAME:BST
DTSTART:19700329T010000
RRULE:FREQ=YEARLY;BYMONTH=3;BYDAY=-1SU
END:DAYLIGHT
BEGIN:STANDARD
TZOFFSETFROM:+0100
TZOFFSETTO:+0000
TZNAME:GMT
DTSTART:19701025T020000
RRULE:FREQ=YEARLY;BYMONTH=10;BYDAY=-1SU
END:STANDARD
END:VTIMEZONE
BEGIN:VEVENT
UID:4626108:Event:223705
DTSTAMP:20260422T142721Z
SUMMARY:The Best You Legacy Club Morning, Redhill
DESCRIPTION:The Best You Legacy Club at the Harlequin\r\n\r\nBecome Pa
 rt Of The Global Network That Will Help You Find Your Purpose...Create
  A Legacy\r\nThe Best You Legacy Club helps individuals and businesse
 s find their purpose. By building people, we build businesses and help
  find a meaning to why we do it. \r\n\r\n\r\n\r\n\r\nUltimately we he
 lp people discover their true purpose – find their legacy.\r\nWhy Ar
 e People Joining The Best You Legacy Club?\r\nIs it because they want 
 to be part of a global network?\r\nIs it because they want to want to
  be part of a community?\r\nIs it because they are interested in fi
 nding their purpose?\r\nIs it because they get access to all The Best
  You content and library?\r\nJoin us at our next meeting and see what 
 you think!\r\nCOST: $13 ((10.50)\r\nBOOKING: Please CLICK HERE to boo
 k your place\r\nMAP\r\n\r\n\r\n\r\n\n\nFor more information visit http
 s://networkinginsurrey.co.uk/events/the-best-you-legacy-club-surrey
DTSTART;TZID=Europe/London:20190924T100000
DTEND;TZID=Europe/London:20190924T130000
CATEGORIES:networking
LOCATION:Harlequin Theatre RH1 1NN
WEBSITE:http://www.harlequintheatre.co.uk/your-visit/getting-here/
URL:http://www.harlequintheatre.co.uk/your-visit/getting-here/
CONTACT:
ORGANIZER;CN="Marina Roberts":https://networkinginsurrey.co.uk/profile
 /MarinaRoberts
ATTACH;FMTTYPE="image/jpeg":https://storage.ning.com/topology/rest/1.0
 /file/get/3558914597?profile=original
ATTENDEE;ROLE=REQ-PARTICIPANT;PARTSTAT=ACCEPTED;RSVP=TRUE;CN="Marina R
 oberts":https://networkinginsurrey.co.uk/profile/MarinaRoberts
END:VEVENT
END:VCALENDAR
