BEGIN:VCALENDAR
PRODID:NingEventWidget-v1
VERSION:2.0
METHOD:PUBLISH
BEGIN:VTIMEZONE
TZID:Europe/London
X-LIC-LOCATION:Europe/London
BEGIN:DAYLIGHT
TZOFFSETFROM:+0000
TZOFFSETTO:+0100
TZNAME:BST
DTSTART:19700329T010000
RRULE:FREQ=YEARLY;BYMONTH=3;BYDAY=-1SU
END:DAYLIGHT
BEGIN:STANDARD
TZOFFSETFROM:+0100
TZOFFSETTO:+0000
TZNAME:GMT
DTSTART:19701025T020000
RRULE:FREQ=YEARLY;BYMONTH=10;BYDAY=-1SU
END:STANDARD
END:VTIMEZONE
BEGIN:VEVENT
UID:4626108:Event:6789
DTSTAMP:20260422T145422Z
SUMMARY:The Best of Richmond Evening, Richmond
DESCRIPTION:An Evening with The Best of Richmond at The Rock & Rose\n\
 nA great bunch of local businesses will be meeting up at the glamorous
  Rock & Rose restaurant in Richmond on Tuesday 1st February - we'd lo
 ve you to join us!\nCome and mingle with a wealth of local business co
 ntacts in a relaxed, social atmosphere, as you sample the delights of 
 this sumptuous venue.\nYou will be welcomed with a complimentary drink
  on arrival, some light bites to eat, and of course the best social bu
 siness networking in the borough!\nIt's a relaxed and friendly atmosph
 ere - and you're bound to make some great contacts!\nCOST:\n\nBusiness
  Members of thebestofrichmond - £10+vat\nNon-members - £20+vat\n\nHo
 w to book\n\nMember and non-members can book and pay online here\nBusi
 ness Members with a Direct Debit facility can book here\n\n\nPlease no
 te we no longer accept payment on the door in order to minimise delays
  on arrival. If you are unable to attend, please notify us in writing 
 at least 24 hours prior to the event and we will credit you for anothe
 r event.\nMAP\n \n\nFor more information visit https://networkinginsu
 rrey.co.uk/events/the-best-of-richmond-evening
DTSTART;TZID=Europe/London:20110201T183000
DTEND;TZID=Europe/London:20110201T203000
CATEGORIES:networking, evening, richmond, best_of_richmond
LOCATION:Rock & Rose TW9 2PQ
WEBSITE:http://www.richmondbusinessservices.co.uk/28.html
URL:http://www.richmondbusinessservices.co.uk/28.html
CONTACT:020 3002 4100
ORGANIZER;CN="Nick Taimitarha":https://networkinginsurrey.co.uk/profil
 e/NickTaimitarha
ATTACH;FMTTYPE="image/jpeg":http://storage.ning.com/topology/rest/1.0/
 file/get/2591389669?profile=original
ATTENDEE;ROLE=REQ-PARTICIPANT;PARTSTAT=ACCEPTED;RSVP=TRUE;CN="Nick Tai
 mitarha":https://networkinginsurrey.co.uk/profile/NickTaimitarha
END:VEVENT
END:VCALENDAR
