BEGIN:VCALENDAR
PRODID:NingEventWidget-v1
VERSION:2.0
METHOD:PUBLISH
BEGIN:VTIMEZONE
TZID:Europe/London
X-LIC-LOCATION:Europe/London
BEGIN:DAYLIGHT
TZOFFSETFROM:+0000
TZOFFSETTO:+0100
TZNAME:BST
DTSTART:19700329T010000
RRULE:FREQ=YEARLY;BYMONTH=3;BYDAY=-1SU
END:DAYLIGHT
BEGIN:STANDARD
TZOFFSETFROM:+0100
TZOFFSETTO:+0000
TZNAME:GMT
DTSTART:19701025T020000
RRULE:FREQ=YEARLY;BYMONTH=10;BYDAY=-1SU
END:STANDARD
END:VTIMEZONE
BEGIN:VEVENT
UID:4626108:Event:6123
DTSTAMP:20260422T173820Z
SUMMARY:The Best of Richmond Christmas Party Evening, Twickenham
DESCRIPTION:It's Party Time!! Gather your team, your partner, your fri
 ends and come and join our Christmas party at the gorgeously stylish M
 arble Hill Pub.\nThere will be a sumptuous feast of a buffet - plus li
 ve music from the brilliant Shelle Luscombe performing with her keyboa
 rd player Jim - mellow to start with, but sure to get you on the dance
 floor later on!.Celebrate all your hard work and CLICK HERE TO BOOK NO
 W - it will be a tasteful 'let your hair down' night and fantastic fun
 !\nCOST: £30 for thebestofrichmond Business Members, Non-members £35
 \nMAP\nPS: There is a car park - and as always Parker Cars are fantast
 ic at getting everyone home safely should you need a cab\n \n\nFor mo
 re information visit https://networkinginsurrey.co.uk/events/the-best-
 of-richmond-christmas
DTSTART;TZID=Europe/London:20101222T180000
DTEND;TZID=Europe/London:20101222T190000
CATEGORIES:evening, thebestofrichmond, party
LOCATION:The Marble Hill Pub TW1 2NP
WEBSITE:
URL:
CONTACT:
ORGANIZER:Nick Taimitarha
ATTACH;FMTTYPE="image/jpeg":http://storage.ning.com/topology/rest/1.0/
 file/get/2591387669?profile=original
ATTENDEE;ROLE=REQ-PARTICIPANT;PARTSTAT=ACCEPTED;RSVP=TRUE;CN="Keith Gr
 over, NiS Founder":https://networkinginsurrey.co.uk/profile/KeithGrove
 r
END:VEVENT
END:VCALENDAR
