BEGIN:VCALENDAR
PRODID:NingEventWidget-v1
VERSION:2.0
METHOD:PUBLISH
BEGIN:VTIMEZONE
TZID:Europe/London
X-LIC-LOCATION:Europe/London
BEGIN:DAYLIGHT
TZOFFSETFROM:+0000
TZOFFSETTO:+0100
TZNAME:BST
DTSTART:19700329T010000
RRULE:FREQ=YEARLY;BYMONTH=3;BYDAY=-1SU
END:DAYLIGHT
BEGIN:STANDARD
TZOFFSETFROM:+0100
TZOFFSETTO:+0000
TZNAME:GMT
DTSTART:19701025T020000
RRULE:FREQ=YEARLY;BYMONTH=10;BYDAY=-1SU
END:STANDARD
END:VTIMEZONE
BEGIN:VEVENT
UID:4626108:Event:34190
DTSTAMP:20260421T042431Z
SUMMARY:Best of Richmond Christmas Party Cruise Evening, Richmond
DESCRIPTION:CHRISTMAS PARTY CRUISE NIGHT!\n\n8pm until midnight, Thurs
 day 15th December 2011\nTurk Launches disco cruise departing from King
 ston pier\nCelebrate all your hard work - with a really good 'let your
  hair down' night!\nGather your team, your partner, your friends and c
 ome and join our Christmas Party Disco Cruise for local business owner
 s in the Richmond borough area.\nThe iconic New Southern Belle will de
 part from Kingston pier at 8pm, cruising to Richmond and returning toÂ
  Kingston at midnight. As always Parker CarsÂ are fantastic at getting
  everyone home safely should you need a cab.\nThe Turk Launches river 
 cruises are a unique experience - the crew know how to entertain with 
 style! A fish & chips supper and onboard entertainment is included.\nW
 atch the disco cruise video on YouTube\nCOST: Â£19.50 including food a
 nd entertainment\nTO BOOK: Call 020 8546 2434Â Â  Please note all book
 ings for this event are handled directly by Turk Launches.\nMAP\nÂ \nÂ
  \nCHRISTMAS PARTY CRUISE!\n\nFor more information visit https://netwo
 rkinginsurrey.co.uk/events/the-best-of-richmond-christmas-party-2011
DTSTART;TZID=Europe/London:20111215T200000
DTEND;TZID=Europe/London:20111216T000000
CATEGORIES:networking
LOCATION:Richmond riverside
WEBSITE:http://youtu.be/ZEffiCcaN5M
URL:http://youtu.be/ZEffiCcaN5M
CONTACT:020 8546 2434
ORGANIZER;CN="Nick Taimitarha":https://networkinginsurrey.co.uk/profil
 e/NickTaimitarha
ATTACH;FMTTYPE="image/jpeg":http://storage.ning.com/topology/rest/1.0/
 file/get/2591391968?profile=original
ATTENDEE;ROLE=REQ-PARTICIPANT;PARTSTAT=ACCEPTED;RSVP=TRUE;CN="Nick Tai
 mitarha":https://networkinginsurrey.co.uk/profile/NickTaimitarha
END:VEVENT
END:VCALENDAR
