BEGIN:VCALENDAR
PRODID:NingEventWidget-v1
VERSION:2.0
METHOD:PUBLISH
BEGIN:VTIMEZONE
TZID:Europe/London
X-LIC-LOCATION:Europe/London
BEGIN:DAYLIGHT
TZOFFSETFROM:+0000
TZOFFSETTO:+0100
TZNAME:BST
DTSTART:19700329T010000
RRULE:FREQ=YEARLY;BYMONTH=3;BYDAY=-1SU
END:DAYLIGHT
BEGIN:STANDARD
TZOFFSETFROM:+0100
TZOFFSETTO:+0000
TZNAME:GMT
DTSTART:19701025T020000
RRULE:FREQ=YEARLY;BYMONTH=10;BYDAY=-1SU
END:STANDARD
END:VTIMEZONE
BEGIN:VEVENT
UID:4626108:Event:7479
DTSTAMP:20260423T021834Z
SUMMARY:The Best of Camberley Evening , Bagshot
DESCRIPTION:Network with the Best of Camberley at Windlesham Golf Club
 \n\nThe â€˜best of Camberleyâ€™ is bringing you another Network Evenin
 g with a difference.\nYou will be able to enjoy totally unstructured N
 etworking with lots of local professionals, entrepreneurs and business
 people, in the superb refurbished Conference Facility of Windlesham Go
 lf Club.\nHOW YOU WILL BENEFIT\n\nConnect with like-minded business pe
 ople in a relaxed ambient atmosphere\nDiscover potential new business 
 alliances\nSource the best local suppliers\nRaise the public profile o
 f your business\nDisplay your company literature on our Promotion Tabl
 e\nEnjoy a complimentary glass of red or white wine, soft drinks, ligh
 t snacks & delicious canapes\nFully licensed bar\nHave a fun evening!Â
  \n\nCOST: Business Members of the bestof, BNI Camberley & SHBN - Â£10
  + vatÂ Â  Non-members & guests - Â£15 + Vat\nCLICK HERE TO BOOKÂ \n**
 *NiS discount for Networking in Surrey Members - Promo Code CAM123. Sa
 ve Â£3.00 on guest ticket total\nPARKING: There is plenty of free park
 ingÂ at the venue.\nMAP\nDIRECTIONSÂ Â \n-----------------------------
 \nthebestof Camberley is run by NiS Member John D Udal.\n\nFor more in
 formation visit https://networkinginsurrey.co.uk/events/the-best-of-ca
 mberley-evening
DTSTART;TZID=Europe/London:20110308T183000
DTEND;TZID=Europe/London:20110308T203000
CATEGORIES:network, evening
LOCATION:Windlesham Golf Club GU19 5HY
WEBSITE:http://www.windleshamgolf.com/ContactUs/tabid/414/Default.aspx
URL:http://www.windleshamgolf.com/ContactUs/tabid/414/Default.aspx
CONTACT:01344 874091 / 07825 414432
ORGANIZER;CN="John D. Udal":https://networkinginsurrey.co.uk/profile/J
 ohnDUdal
ATTACH;FMTTYPE="image/jpeg":http://storage.ning.com/topology/rest/1.0/
 file/get/2591390606?profile=original
ATTENDEE;ROLE=REQ-PARTICIPANT;PARTSTAT=ACCEPTED;RSVP=TRUE;CN="John D. 
 Udal":https://networkinginsurrey.co.uk/profile/JohnDUdal
END:VEVENT
END:VCALENDAR
