BEGIN:VCALENDAR
PRODID:NingEventWidget-v1
VERSION:2.0
METHOD:PUBLISH
BEGIN:VTIMEZONE
TZID:Europe/London
X-LIC-LOCATION:Europe/London
BEGIN:DAYLIGHT
TZOFFSETFROM:+0000
TZOFFSETTO:+0100
TZNAME:BST
DTSTART:19700329T010000
RRULE:FREQ=YEARLY;BYMONTH=3;BYDAY=-1SU
END:DAYLIGHT
BEGIN:STANDARD
TZOFFSETFROM:+0100
TZOFFSETTO:+0000
TZNAME:GMT
DTSTART:19701025T020000
RRULE:FREQ=YEARLY;BYMONTH=10;BYDAY=-1SU
END:STANDARD
END:VTIMEZONE
BEGIN:VEVENT
UID:4626108:Event:528527
DTSTAMP:20260420T090053Z
SUMMARY:The Athena Network: Petersfield
DESCRIPTION:The Athena Network: Petersfield GroupÂ \n\n\nYou're welcom
 e to visit us at our monthly business networking meeting, with like-mi
 nded businesswomen, entrepreneurs, and executives. We are a fabulous g
 roup of women from a wide range of industry sectors, who are passionat
 e about their business and who are looking to connect with and build p
 rofessional relationships with other local businesswomen.\nNot just a 
 networking group, The Athena Network has three aims:\n\nto create stra
 tegic connections/ collaborations\nto deliver and develop business ski
 lls through our business talks and workshops\nto inspire, motivate and
  support the women in our network\n\nAbout Athena Meetings\nAthena mee
 tings are structured, interactive, informative, and professional whils
 t being fun and relaxed, providing the perfect combination for strong 
 business partnerships. We aim to create a vibrant, thriving, and dynam
 ic community of women entrepreneurs and executives who collaborate and
  connect with like-minded women.\nOur meetings start at 12pm with \"op
 en Zoom Room networking\" followed by a structured meeting until 2pm. 
 You'll have the opportunity to present a 60-second \"pitch\" for your 
 business so that we know who to connect you with and how to support yo
 u. We also have a different Business Development Training speaker each
  month.\nThis month our Business Development Training speaker will be:
 Â \nSarah Roberts - Autoimmune Protocol Coach and Cognitive Hypnothera
 pist\nHer talk will be: \"Why businesswomen can be more likely to deve
 lop autoimmune disease - and how you can reduce your risk and improve 
 your health.\"\nSarah helps adults with autoimmune disease deal with t
 he emotional and mental challenges of living with autoimmune condition
 s and chronic illness, and with understanding what research has shown 
 about factors that affect disease progression and factors that encoura
 ge healing, and how you can apply these yourself.\nYou will learn what
  can reduce your risk of autoimmune disease (or what can help with rec
 overy if you have it) so that you can look after the key asset in your
  business - you!\nYou can be sure of a warm welcome, so why not come a
 nd experience The Athena Network for yourself?\nBooking your Place\nVi
 sitors are welcome, but booking is essential. We operate a one slot pe
 r profession policy, so please ensure you provide your profession deta
 ils with your booking. If you would like to check to see if your profe
 ssion isn't locked out before booking, please feel free to contact me 
 directly.\nSPECIAL OFFER\nIf you choose to join us after attending an 
 online meeting, your visitor fee will be offset against the subscripti
 on fee, meaning you effectively visit for free!\nCOST: Â£30\nBOOKING:Â
  PleaseÂ CLICK HEREÂ to book\n----------------------------------------
 ---------------------------- To find out more about Athena, please: â€
 ¢ call me on 07501 124113 â€¢ email: doris.holleufer@theathenanetwork.
 com\n\n\nFor more information visit https://networkinginsurrey.co.uk/e
 vents/the-athena-network-petersfield
DTSTART;TZID=Europe/London:20210921T120000
DTEND;TZID=Europe/London:20210921T140000
CATEGORIES:virtual, networking
LOCATION:Petersfield
WEBSITE:
URL:
CONTACT:
ORGANIZER;CN="Doris Holleufer":https://networkinginsurrey.co.uk/profil
 e/DorisHolleufer88
ATTACH;FMTTYPE="image/jpeg":https://storage.ning.com/topology/rest/1.0
 /file/get/9194563867?profile=original
ATTENDEE;ROLE=REQ-PARTICIPANT;PARTSTAT=ACCEPTED;RSVP=TRUE;CN="Doris Ho
 lleufer":https://networkinginsurrey.co.uk/profile/DorisHolleufer88
END:VEVENT
END:VCALENDAR
