BEGIN:VCALENDAR
PRODID:NingEventWidget-v1
VERSION:2.0
METHOD:PUBLISH
BEGIN:VTIMEZONE
TZID:Europe/London
X-LIC-LOCATION:Europe/London
BEGIN:DAYLIGHT
TZOFFSETFROM:+0000
TZOFFSETTO:+0100
TZNAME:BST
DTSTART:19700329T010000
RRULE:FREQ=YEARLY;BYMONTH=3;BYDAY=-1SU
END:DAYLIGHT
BEGIN:STANDARD
TZOFFSETFROM:+0100
TZOFFSETTO:+0000
TZNAME:GMT
DTSTART:19701025T020000
RRULE:FREQ=YEARLY;BYMONTH=10;BYDAY=-1SU
END:STANDARD
END:VTIMEZONE
BEGIN:VEVENT
UID:4626108:Event:527552
DTSTAMP:20260425T202845Z
SUMMARY:The Athena Network: Petersfield Wednesday
DESCRIPTION:The Athena Network: Petersfield Wednesday Group \r\n\r\nY
 ou're welcome to visit us at our monthly business networking lunch, wi
 th like-minded businesswomen, entrepreneurs and executives. We are a f
 abulous group of women from a wide range of industry sectors, who are 
 passionate about their business and who are looking to connect with an
 d build professional relationships with other local businesswomen.\r\n
 About Athena Meetings Athena meetings are structured, interactive, inf
 ormative, and professional whilst being fun and relaxed, providing the
  perfect combination for strong business partnerships. We aim to creat
 e a vibrant, thriving and dynamic community of women entrepreneurs and
  executives who collaborate and connect with like-minded women.\r\nOur
  meetings start at 12pm with \"open Zoom Room networking\" followed by
  a structured meeting until 2pm. You'll have the opportunity to presen
 t a 60 second \"pitch\" for your business, so that we know who to conn
 ect you with and how to support you. We also have a different Business
  Development Speaker each month.\r\nThis month our Business Developmen
 t Speaker will be: Michelle Wright - First Rate PA\r\nHer talk will be
  \"Time saving tips from someone who knows\"\r\nBooking your Place Vis
 itors are welcome, but booking is essential. We operate a one slot per
  profession policy, so please check before you book that your professi
 on isn't represented. You can view our members and their professions o
 n our webpage. If you are not sure, please do call or email to check.\
 r\nCOST: £30\r\nBOOKING: Please CLICK HERE to book\r\n------------
 -------------------------------------------------------- To find out m
 ore about Athena, please: • call me on 07501 124113 • email: doris
 .holleufer@theathenanetwork.com\r\n\n\nFor more information visit http
 s://networkinginsurrey.co.uk/events/the-athena-network-petersfield-wed
 nesday
DTSTART;TZID=Europe/London:20210721T120000
DTEND;TZID=Europe/London:20210721T140000
CATEGORIES:virtual, networking
LOCATION:Petersfield
WEBSITE:
URL:
CONTACT:
ORGANIZER;CN="Doris Holleufer":https://networkinginsurrey.co.uk/profil
 e/DorisHolleufer88
ATTACH;FMTTYPE="image/jpeg":https://storage.ning.com/topology/rest/1.0
 /file/get/9194563867?profile=original
ATTENDEE;ROLE=REQ-PARTICIPANT;PARTSTAT=ACCEPTED;RSVP=TRUE;CN="Doris Ho
 lleufer":https://networkinginsurrey.co.uk/profile/DorisHolleufer88
END:VEVENT
END:VCALENDAR
