BEGIN:VCALENDAR
PRODID:NingEventWidget-v1
VERSION:2.0
METHOD:PUBLISH
BEGIN:VTIMEZONE
TZID:Europe/London
X-LIC-LOCATION:Europe/London
BEGIN:DAYLIGHT
TZOFFSETFROM:+0000
TZOFFSETTO:+0100
TZNAME:BST
DTSTART:19700329T010000
RRULE:FREQ=YEARLY;BYMONTH=3;BYDAY=-1SU
END:DAYLIGHT
BEGIN:STANDARD
TZOFFSETFROM:+0100
TZOFFSETTO:+0000
TZNAME:GMT
DTSTART:19701025T020000
RRULE:FREQ=YEARLY;BYMONTH=10;BYDAY=-1SU
END:STANDARD
END:VTIMEZONE
BEGIN:VEVENT
UID:4626108:Event:527243
DTSTAMP:20260422T134853Z
SUMMARY:Athena Network Petersfield Wednesday Lunch
DESCRIPTION:The Athena Network: Petersfield Tuesday Group - Guest Spea
 ker Rachel Maunder\r\n\r\n\r\nYou're welcome to visit us at our monthl
 y business networking lunch, with like-minded businesswomen, entrepren
 eurs and executives. We are a fabulous group of women from a wide rang
 e of industry sectors, who are passionate about their business and who
  are looking to connect with and build professional relationships with
  other local businesswomen.\r\nAbout Athena Meetings Athena meetings a
 re structured, interactive, informative, and professional whilst being
  fun and relaxed, providing the perfect combination for strong busines
 s partnerships. We aim to create a vibrant, thriving and dynamic commu
 nity of women entrepreneurs and executives who collaborate and connect
  with like-minded women.\r\nOur meetings start at 12pm with \"open Zoo
 m Room networking\" followed by a structured meeting until 2pm. You'll
  have the opportunity to present a 60 second \"pitch\" for your busine
 ss, so that we know who to connect you with and how to support you. We
  also have a different Business Development Speaker each month.\r\nThi
 s month our Business Development Speaker will be:\r\nRachel Maunder, C
 harity Ambassador at Creating Better Futures.\r\nBooking your Place Vi
 sitors are welcome, but booking is essential. We operate a one slot pe
 r profession policy, so please check before you book that your profess
 ion isn't represented. You can view our members and their professions 
 on our webpage. If you are not sure, please do call or email to check.
 \r\nCOST: £30\r\nBOOKING: Please CLICK HERE to book\r\n-----------
 --------------------------------------------------------- To find out 
 more about Athena, please: • call me on 07501 124113 • email: dori
 s.holleufer@theathenanetwork.com\r\n\n\nFor more information visit htt
 ps://networkinginsurrey.co.uk/events/the-athena-network-petersfield-we
 dnesday-guest-speaker-rachel
DTSTART;TZID=Europe/London:20210616T120000
DTEND;TZID=Europe/London:20210616T140000
CATEGORIES:virtual, networking
LOCATION:Zoom online networking
WEBSITE:http://www.theathenanetwork.co.uk/dorisholleufer
URL:http://www.theathenanetwork.co.uk/dorisholleufer
CONTACT:07501 124113
ORGANIZER;CN="Doris Holleufer":https://networkinginsurrey.co.uk/profil
 e/DorisHolleufer88
ATTACH;FMTTYPE="image/jpeg":https://storage.ning.com/topology/rest/1.0
 /file/get/9051213478?profile=original
ATTENDEE;ROLE=REQ-PARTICIPANT;PARTSTAT=ACCEPTED;RSVP=TRUE;CN="Doris Ho
 lleufer":https://networkinginsurrey.co.uk/profile/DorisHolleufer88
END:VEVENT
END:VCALENDAR
