BEGIN:VCALENDAR
PRODID:NingEventWidget-v1
VERSION:2.0
METHOD:PUBLISH
BEGIN:VTIMEZONE
TZID:Europe/London
X-LIC-LOCATION:Europe/London
BEGIN:DAYLIGHT
TZOFFSETFROM:+0000
TZOFFSETTO:+0100
TZNAME:BST
DTSTART:19700329T010000
RRULE:FREQ=YEARLY;BYMONTH=3;BYDAY=-1SU
END:DAYLIGHT
BEGIN:STANDARD
TZOFFSETFROM:+0100
TZOFFSETTO:+0000
TZNAME:GMT
DTSTART:19701025T020000
RRULE:FREQ=YEARLY;BYMONTH=10;BYDAY=-1SU
END:STANDARD
END:VTIMEZONE
BEGIN:VEVENT
UID:4626108:Event:527240
DTSTAMP:20260422T180559Z
SUMMARY:Athena Network Petersfield Tuesday Lunch
DESCRIPTION:The Athena Network: Petersfield Tuesday Group - Guest Spea
 ker Laura Nicole Brown \r\n\r\n\r\nYou're welcome to visit us at our 
 monthly business networking lunch, with like-minded businesswomen, ent
 repreneurs and executives. We are a fabulous group of women from a wid
 e range of industry sectors, who are passionate about their business a
 nd who are looking to connect with and build professional relationship
 s with other local businesswomen.\r\nAbout Athena Meetings Athena meet
 ings are structured, interactive, informative, and professional whilst
  being fun and relaxed, providing the perfect combination for strong b
 usiness partnerships. We aim to create a vibrant, thriving and dynamic
  community of women entrepreneurs and executives who collaborate and c
 onnect with like-minded women.\r\nOur meetings start at 12pm with \"op
 en Zoom Room networking\" followed by a structured meeting until 2pm. 
 You'll have the opportunity to present a 60 second \"pitch\" for your 
 business, so that we know who to connect you with and how to support y
 ou. We also have a different Business Development Speaker each month.\
 r\nThis month our Business Development Speaker will be:\r\nKerstin Och
 el, Fashion Fantasies.\r\nHer talk will be: 'Shape and Drape – Detai
 ls make the difference'\r\nBooking your Place Visitors are welcome, bu
 t booking is essential. We operate a one slot per profession policy, s
 o please check before you book that your profession isn't represented.
  You can view our members and their professions on our webpage. If you
  are not sure, please do call or email to check.\r\nCOST: £30\r\nBOOK
 ING: Please CLICK HERE to book\r\n---------------------------------
 ----------------------------------- To find out more about Athena, ple
 ase: • call me on 07501 124113 • email: doris.holleufer@theathenan
 etwork.com\r\n\n\nFor more information visit https://networkinginsurre
 y.co.uk/events/the-athena-network-petersfield-tuesday-group-guest-spea
 ker
DTSTART;TZID=Europe/London:20210615T120000
DTEND;TZID=Europe/London:20210615T140000
CATEGORIES:virtual, networking
LOCATION:Zoom online networking
WEBSITE:http://www.theathenanetwork.co.uk/dorisholleufer
URL:http://www.theathenanetwork.co.uk/dorisholleufer
CONTACT:07501 124113
ORGANIZER;CN="Doris Holleufer":https://networkinginsurrey.co.uk/profil
 e/DorisHolleufer88
ATTACH;FMTTYPE="image/jpeg":https://storage.ning.com/topology/rest/1.0
 /file/get/9031312901?profile=original
ATTENDEE;ROLE=REQ-PARTICIPANT;PARTSTAT=ACCEPTED;RSVP=TRUE;CN="Doris Ho
 lleufer":https://networkinginsurrey.co.uk/profile/DorisHolleufer88
END:VEVENT
END:VCALENDAR
