BEGIN:VCALENDAR
PRODID:NingEventWidget-v1
VERSION:2.0
METHOD:PUBLISH
BEGIN:VTIMEZONE
TZID:Europe/London
X-LIC-LOCATION:Europe/London
BEGIN:DAYLIGHT
TZOFFSETFROM:+0000
TZOFFSETTO:+0100
TZNAME:BST
DTSTART:19700329T010000
RRULE:FREQ=YEARLY;BYMONTH=3;BYDAY=-1SU
END:DAYLIGHT
BEGIN:STANDARD
TZOFFSETFROM:+0100
TZOFFSETTO:+0000
TZNAME:GMT
DTSTART:19701025T020000
RRULE:FREQ=YEARLY;BYMONTH=10;BYDAY=-1SU
END:STANDARD
END:VTIMEZONE
BEGIN:VEVENT
UID:4626108:Event:755
DTSTAMP:20260426T004636Z
SUMMARY:The Athena Network Lunch, Weybridge
DESCRIPTION:Anyone can sell, especially women! with Richard White\n\nT
 he Weybridge group meets on the 4th Thursday of every month (bar Augus
 t). This month we welcome Richard White of The Accidental Salesman®\n
 \nAnyone can sell, especially women!\nAn inspiring and informative tal
 k about a key selling skill which most women already have and how to u
 tilise that skill to increase sales without being pushy. Attendees wil
 l come away with:\n1.The number 1 selling skill and why women already 
 have it\n2. How to use that skill to ensure you have a regular flow of
  sales revenue\n3. How to use that skill to maximise how much each cli
 ent spends with you\nCOST: Guests - £25 including lunch, refreshments
  & Athena information pack. Members - £20 BOOK HERE: Pre-registration
  is essential - if would like to join us, please let us know 48 hours 
 before the Meeting, so that we can reserve a place for you, as our eve
 nts do sell out.\nContact Tricia Taylor 01932 882 340tricia.taylor@the
 athenanetwork.com or Robyn Hatley 01932 422 573 robyn.hatley@theathena
 network.com\nMAP\nVENUE\nThere is limited parking in The Ship's own ca
 r park (usually adequate at lunchtime)\n----------------\nThe Athena N
 etwork launched in Weybridge in November 2009. As one of the 130 Athen
 a Network groups nationwide, Weybridge is already a very popular group
 . We run focused, yet relaxed, networking lunches for local business w
 omen. Our business meetings include open networking, guest speakers, b
 usiness training and the opportunity to promote your own business - wh
 ether well-established or starting out.\n\nFor more information visit 
 https://networkinginsurrey.co.uk/events/the-athena-network-lunch
DTSTART;TZID=Europe/London:20100225T120000
DTEND;TZID=Europe/London:20100225T143000
CATEGORIES:lunch, women, weybridge
LOCATION:The Ship Hotel, Weybridge KT13 8BQ
WEBSITE:http://www.athenanorthsurrey.co.uk/weybridge/
URL:http://www.athenanorthsurrey.co.uk/weybridge/
CONTACT:01932 422 573 Robyn Hatley
ORGANIZER:Robyn Hatley
ATTACH;FMTTYPE="image/jpeg":http://storage.ning.com/topology/rest/1.0/
 file/get/2591377286?profile=original
END:VEVENT
END:VCALENDAR
