BEGIN:VCALENDAR
PRODID:NingEventWidget-v1
VERSION:2.0
METHOD:PUBLISH
BEGIN:VTIMEZONE
TZID:Europe/London
X-LIC-LOCATION:Europe/London
BEGIN:DAYLIGHT
TZOFFSETFROM:+0000
TZOFFSETTO:+0100
TZNAME:BST
DTSTART:19700329T010000
RRULE:FREQ=YEARLY;BYMONTH=3;BYDAY=-1SU
END:DAYLIGHT
BEGIN:STANDARD
TZOFFSETFROM:+0100
TZOFFSETTO:+0000
TZNAME:GMT
DTSTART:19701025T020000
RRULE:FREQ=YEARLY;BYMONTH=10;BYDAY=-1SU
END:STANDARD
END:VTIMEZONE
BEGIN:VEVENT
UID:4626108:Event:75212
DTSTAMP:20260426T015823Z
SUMMARY:The Athena Network Lunch, Weybridge
DESCRIPTION:Athena Lunch at The Ship\n\nWe run focused, yet relaxed, n
 etworking lunches for local business women in the Weybridge area for b
 oth Athena members & visitors.\nWe meet every month at our highly popu
 lar lunches that include open networking, guest speakers, business tra
 ining and the opportunity to promote your own business - whether well-
 established or starting out.\nTo pre-register, please contact Claire a
 t pa.clairepelenc@theathenanetwork.com or for further details go to h
 ttp://theathenanetwork.co.uk/ClairePelenc.\n\nThis month's speaker is 
 Liz Hunt of Elizabeth Hunt & Associates.\n\nLiz is a qualified, licens
 ed & bonded letting agent with the Association of Residential Letting 
 Agents (ARLA) with 20 years' experience and operate in the Surrey area
  offering a bespoke letting and management service. \nLiz's talk will
  be entitled: \"What you really need to ask your agent\"\nMy aim is to
  provide you with some guidelines to help you through the potential mi
 nefield of appointing the right agent to let your property, help guid
 e you through what is possibly everyone's possible worst nightmare.\n\
 nCOST: £28 for visitors  - £24 for Athena members\n BOOKING: Call
  Claire or email pa.clairepelenc@theathenanetwork.com\n MAP: click her
 e to open map\n -------------------------------------------\nEVENT OR
 GANISERS:\nThe Athena Network, The Premier Networking Organisation for
  Women In Business\n Focusing exclusively on women in business fulfill
 ing a business development role, The Athena Network offers inspiring o
 pportunities to engage with business owners and decision makers from d
 iverse industry sectors. Founded on values of respect and integrity, A
 thena groups are committed to welcoming members and visitors in a rela
 xed, mutually supportive and ethical environment.\n At the heart of At
 hena’s activities, networking groups meet each month over a good lun
 ch in an attractive venue to make new contacts, develop valuable busin
 ess expertise and explore visionary ideas. Additional local and region
 al initiatives provide excellent membership value, through motivationa
 l workshops on networking skills and business planning, social events,
  training courses, business retreats and one-to-one consultancy servic
 es.\nVibrant and fast-growing, Athena is the UK’s premier business n
 etworking organisation for women in business and is establishing a sig
 nificant international presence.\n\nFor more information visit https:/
 /networkinginsurrey.co.uk/events/the-athena-network-lunch-weybridge-4
DTSTART;TZID=Europe/London:20151022T120000
DTEND;TZID=Europe/London:20151022T140000
CATEGORIES:business, women, networking, lunch
LOCATION:The Ship  KT13 8BQ
WEBSITE:http://theathenanetwork.co.uk/ClairePelenc/
URL:http://theathenanetwork.co.uk/ClairePelenc/
CONTACT:07877705247
ORGANIZER:Claire Pelenc
ATTACH;FMTTYPE="image/jpeg":http://storage.ning.com/topology/rest/1.0/
 file/get/2591439354?profile=original
ATTENDEE;ROLE=REQ-PARTICIPANT;PARTSTAT=ACCEPTED;RSVP=TRUE;CN="Gilles P
 elenc":https://networkinginsurrey.co.uk/profile/GillesPelenc
END:VEVENT
END:VCALENDAR
