BEGIN:VCALENDAR
PRODID:NingEventWidget-v1
VERSION:2.0
METHOD:PUBLISH
BEGIN:VTIMEZONE
TZID:Europe/London
X-LIC-LOCATION:Europe/London
BEGIN:DAYLIGHT
TZOFFSETFROM:+0000
TZOFFSETTO:+0100
TZNAME:BST
DTSTART:19700329T010000
RRULE:FREQ=YEARLY;BYMONTH=3;BYDAY=-1SU
END:DAYLIGHT
BEGIN:STANDARD
TZOFFSETFROM:+0100
TZOFFSETTO:+0000
TZNAME:GMT
DTSTART:19701025T020000
RRULE:FREQ=YEARLY;BYMONTH=10;BYDAY=-1SU
END:STANDARD
END:VTIMEZONE
BEGIN:VEVENT
UID:4626108:Event:96662
DTSTAMP:20260422T232916Z
SUMMARY:The Athena Network Lunch, Weybridge
DESCRIPTION:Athena Lunch at The Old Crown\n\nWe run focused, yet relax
 ed, networking lunches for local business women in the Weybridge area 
 for both Athena members & visitors.\nWe meet every month at our highly
  popular lunches that include open networking, guest speakers, busines
 s training and the opportunity to promote your own business - whether 
 well-established or starting out.\nTo pre-register, please contact Cla
 ire at claire.pelenc@theathenanetwork.com or for further details go t
 o https://theathenanetwork.com/clairepelenc/\nThis month's speaker: R
 achel Lane of Rapport Team\n\nCOST: £28 for visitors  - £24 for 
 Athena members\nBOOKING: Call Claire or email claire.pelenc@theathenan
 etwork.com\nMAP \n -------------------------------------------\nEVENT
  ORGANISERS:\nThe Athena Network, The Premier Networking Organisation 
 for Women In Business\n Focusing exclusively on women in business fulf
 illing a business development role, The Athena Network offers inspirin
 g opportunities to engage with business owners and decision makers fro
 m diverse industry sectors. Founded on values of respect and integrity
 , Athena groups are committed to welcoming members and visitors in a r
 elaxed, mutually supportive and ethical environment.\n At the heart of
  Athena’s activities, networking groups meet each month over a good 
 lunch in an attractive venue to make new contacts, develop valuable bu
 siness expertise and explore visionary ideas. Additional local and reg
 ional initiatives provide excellent membership value, through motivati
 onal workshops on networking skills and business planning, social even
 ts, training courses, business retreats and one-to-one consultancy ser
 vices.\nVibrant and fast-growing, Athena is the UK’s premier busines
 s networking organisation for women in business and is establishing a 
 significant international presence.\n\nFor more information visit http
 s://networkinginsurrey.co.uk/events/the-athena-network-lunch-weybridge
 -15
DTSTART;TZID=Europe/London:20180322T120000
DTEND;TZID=Europe/London:20180322T140000
CATEGORIES:business, women, networking, lunch
LOCATION:The Old Crown KT13 8LP
WEBSITE:http://theathenanetwork.co.uk/ClairePelenc/
URL:http://theathenanetwork.co.uk/ClairePelenc/
CONTACT:07877705247
ORGANIZER:Claire Pelenc
ATTACH;FMTTYPE="image/jpeg":http://storage.ning.com/topology/rest/1.0/
 file/get/2591450785?profile=original
ATTENDEE;ROLE=REQ-PARTICIPANT;PARTSTAT=ACCEPTED;RSVP=TRUE;CN="Gilles P
 elenc":https://networkinginsurrey.co.uk/profile/GillesPelenc
END:VEVENT
END:VCALENDAR
