BEGIN:VCALENDAR
PRODID:NingEventWidget-v1
VERSION:2.0
METHOD:PUBLISH
BEGIN:VTIMEZONE
TZID:Europe/London
X-LIC-LOCATION:Europe/London
BEGIN:DAYLIGHT
TZOFFSETFROM:+0000
TZOFFSETTO:+0100
TZNAME:BST
DTSTART:19700329T010000
RRULE:FREQ=YEARLY;BYMONTH=3;BYDAY=-1SU
END:DAYLIGHT
BEGIN:STANDARD
TZOFFSETFROM:+0100
TZOFFSETTO:+0000
TZNAME:GMT
DTSTART:19701025T020000
RRULE:FREQ=YEARLY;BYMONTH=10;BYDAY=-1SU
END:STANDARD
END:VTIMEZONE
BEGIN:VEVENT
UID:4626108:Event:95399
DTSTAMP:20260423T053301Z
SUMMARY:The Athena Network Lunch, Weybridge
DESCRIPTION:Athena Lunch at The Old Crown\n\nWe run focused, yet relax
 ed, networking lunches for local business women in the Weybridge area 
 for both Athena members & visitors.\nWe meet every month at our highly
  popular lunches that include open networking, guest speakers, busines
 s training and the opportunity to promote your own business - whether 
 well-established or starting out.\nTo pre-register, please contact Cla
 ire atÂ claire.pelenc@theathenanetwork.com or for further details go t
 oÂ https://theathenanetwork.com/clairepelenc/\nThis month's speaker:Â 
 Clare Murchison of Refreshing Minds\n\nCOST:Â Â£28Â for visitors Â - Â
 £24 for Athena members\nBOOKING: Call Claire or email claire.pelenc@th
 eathenanetwork.com\nMAPÂ \n ------------------------------------------
 -\nEVENT ORGANISERS:\nThe Athena Network, The Premier Networking Organ
 isation for Women In Business\n Focusing exclusively on women in busin
 ess fulfilling a business development role, The Athena Network offers 
 inspiring opportunities to engage with business owners and decision ma
 kers from diverse industry sectors. Founded on values of respect and i
 ntegrity, Athena groups are committed to welcoming members and visitor
 s in a relaxed, mutually supportive and ethical environment.\n At the 
 heart of Athenaâ€™s activities, networking groups meet each month over
  a good lunch in an attractive venue to make new contacts, develop val
 uable business expertise and explore visionary ideas. Additional local
  and regional initiatives provide excellent membership value, through 
 motivational workshops on networking skills and business planning, soc
 ial events, training courses, business retreats and one-to-one consult
 ancy services.\nVibrant and fast-growing, Athena is the UKâ€™s premier
  business networking organisation for women in business and is establi
 shing a significant international presence.\n\nFor more information vi
 sit https://networkinginsurrey.co.uk/events/the-athena-network-lunch-w
 eybridge-14
DTSTART;TZID=Europe/London:20180125T120000
DTEND;TZID=Europe/London:20180125T140000
CATEGORIES:business, women, networking, lunch
LOCATION:The Old Crown KT13 8LP
WEBSITE:http://theathenanetwork.co.uk/ClairePelenc/
URL:http://theathenanetwork.co.uk/ClairePelenc/
CONTACT:07877705247
ORGANIZER:Claire Pelenc
ATTACH;FMTTYPE="image/jpeg":http://storage.ning.com/topology/rest/1.0/
 file/get/2591450785?profile=original
ATTENDEE;ROLE=REQ-PARTICIPANT;PARTSTAT=ACCEPTED;RSVP=TRUE;CN="Gilles P
 elenc":https://networkinginsurrey.co.uk/profile/GillesPelenc
END:VEVENT
END:VCALENDAR
