BEGIN:VCALENDAR
PRODID:NingEventWidget-v1
VERSION:2.0
METHOD:PUBLISH
BEGIN:VTIMEZONE
TZID:Europe/London
X-LIC-LOCATION:Europe/London
BEGIN:DAYLIGHT
TZOFFSETFROM:+0000
TZOFFSETTO:+0100
TZNAME:BST
DTSTART:19700329T010000
RRULE:FREQ=YEARLY;BYMONTH=3;BYDAY=-1SU
END:DAYLIGHT
BEGIN:STANDARD
TZOFFSETFROM:+0100
TZOFFSETTO:+0000
TZNAME:GMT
DTSTART:19701025T020000
RRULE:FREQ=YEARLY;BYMONTH=10;BYDAY=-1SU
END:STANDARD
END:VTIMEZONE
BEGIN:VEVENT
UID:4626108:Event:275060
DTSTAMP:20260422T043233Z
SUMMARY:The Athena Network Lunch, Fleet
DESCRIPTION:Athena Lunch at Stockton House\r\n\r\nWe look forward to w
 elcoming you to Athena Fleet!\r\n\r\nBusiness Support Speaker this mon
 th...TBC\r\nDiscover Networking The Athena Way\r\nCome and find out ab
 out Athena, our ethos, our values and our aims. There will be plenty o
 f networking on the day, enabling visitors to meet other like minded l
 ocal business women, followed by a great lunch and inspirational speak
 ers.\r\nAthena meetings are structured, interactive, informative and p
 rofessional whilst being fun and relaxed, providing the perfect combin
 ation for strong business partnerships as well as friendship. We aim t
 o create a vibrant, thriving and dynamic community of women entreprene
 urs and executives who not only collaborate and connect with like-mind
 ed women, they learn and grow in the process.\r\nAthena Fleet meeting
 s take place every 2nd Thursday of the month (excl August & December
 )\r\nPRICE: £28 (including one course hot lunch and refreshments)\r\
 nBOOKING: Please CLICK HERE to book via Eventbrite for debit/credit 
 card payments or call Charlotte on 07882993581 or email Charlotte.emer
 y@theathenanetwork.com for BACS payments \r\nMAP\r\n-----------------
 -----------------------------------------------\r\nFind more Athena me
 etings here on Networking in Surrey...\n\nFor more information visit h
 ttps://networkinginsurrey.co.uk/events/the-athena-network-lunch-fleet-
 898
DTSTART;TZID=Europe/London:20200109T120000
DTEND;TZID=Europe/London:20200109T140000
CATEGORIES:networking
LOCATION:Stockton House GU51 4NS
WEBSITE:
URL:
CONTACT:
ORGANIZER;CN="Charlotte Emery":https://networkinginsurrey.co.uk/profil
 e/CharlotteEmery
ATTACH;FMTTYPE="image/jpeg":https://storage.ning.com/topology/rest/1.0
 /file/get/1775117945?profile=original
ATTENDEE;ROLE=REQ-PARTICIPANT;PARTSTAT=ACCEPTED;RSVP=TRUE;CN="Charlott
 e Emery":https://networkinginsurrey.co.uk/profile/CharlotteEmery
END:VEVENT
END:VCALENDAR
