BEGIN:VCALENDAR
PRODID:NingEventWidget-v1
VERSION:2.0
METHOD:PUBLISH
BEGIN:VTIMEZONE
TZID:Europe/London
X-LIC-LOCATION:Europe/London
BEGIN:DAYLIGHT
TZOFFSETFROM:+0000
TZOFFSETTO:+0100
TZNAME:BST
DTSTART:19700329T010000
RRULE:FREQ=YEARLY;BYMONTH=3;BYDAY=-1SU
END:DAYLIGHT
BEGIN:STANDARD
TZOFFSETFROM:+0100
TZOFFSETTO:+0000
TZNAME:GMT
DTSTART:19701025T020000
RRULE:FREQ=YEARLY;BYMONTH=10;BYDAY=-1SU
END:STANDARD
END:VTIMEZONE
BEGIN:VEVENT
UID:4626108:Event:75080
DTSTAMP:20260426T032419Z
SUMMARY:The Athena Network Lunch, Esher
DESCRIPTION:Athena Lunch at The Albert Arms\nWe run focused, yet relax
 ed, networking lunches for local business women in the Esher area for 
 both Athena members & visitors.\nWe meet every month at our highly pop
 ular lunches that include open networking, guest speakers, business tr
 aining and the opportunity to promote your own business - whether well
 -established or starting out.\nGuest speaker this month: Lyn French o
 f Jelliboo\n\nLyn is an experienced social media consultant with a leg
 al policy and project management background who specializes in LinkedI
 n training. Jelliboo Social Media services include social media polici
 es, marketing strategies, account management and training across the m
 ajor social media platforms.\nLyn's talk will be entitled: \"Pique You
 r Pinterest\"\nPinterest's combination of elegant design and smart soc
 ial networking dynamics has made it the fastest-growing web service in
  history. People consider it as the future of e-commerce, others see i
 t as a true alternative form of e-commerce, with unprecedented \"Pin t
 o Purchase\" ratio and incredible purchase per visit averages compared
  to Google, Facebook, Twitter or Amazon.\nWhat will our attendees be a
 ble to learn?\nStrategies on how to capitalize on the Pinterest revolu
 tion, using Pinterest to drive potential customers to your website\n\n
 COST: £28 for visitors (including lunch, refreshments, an Athena inf
 ormation pack, VAT) - £24 for Athena members\nBOOKING: Call Claire o
 r email pa.clairepelenc@theathenanetwork.com\nMAP: click here to open
  map\n-------------------------------------------\nEVENT ORGANISERS:\n
 The Athena Network, The Premier Networking Organisation for Women In
  Business Focusing exclusively on women in business fulfilling a busin
 ess development role, The Athena Network offers inspiring opportunitie
 s to engage with business owners and decision makers from diverse indu
 stry sectors. Founded on values of respect and integrity, Athena group
 s are committed to welcoming members and visitors in a relaxed, mutual
 ly supportive and ethical environment. At the heart of Athena’s acti
 vities, networking groups meet each month over a good lunch in an attr
 active venue to make new contacts, develop valuable business expertise
  and explore visionary ideas. Additional local and regional initiative
 s provide excellent membership value, through motivational workshops o
 n networking skills and business planning, social events, training cou
 rses, business retreats and one-to-one consultancy services.\nVibrant 
 and fast-growing, Athena is the UK’s premier business networking org
 anisation for women in business and is establishing a significant inte
 rnational presence.\n\n\nFor more information visit https://networking
 insurrey.co.uk/events/the-athena-network-lunch-esher-5
DTSTART;TZID=Europe/London:20151013T120000
DTEND;TZID=Europe/London:20151013T140000
CATEGORIES:business, women, networking, lunch
LOCATION:The Albert Arms - KT10 9QS
WEBSITE:http://theathenanetwork.co.uk/ClairePelenc
URL:http://theathenanetwork.co.uk/ClairePelenc
CONTACT:07877 705 247
ORGANIZER:Claire Pelenc
ATTACH;FMTTYPE="image/jpeg":http://storage.ning.com/topology/rest/1.0/
 file/get/2591439354?profile=original
ATTENDEE;ROLE=REQ-PARTICIPANT;PARTSTAT=ACCEPTED;RSVP=TRUE;CN="Gilles P
 elenc":https://networkinginsurrey.co.uk/profile/GillesPelenc
END:VEVENT
END:VCALENDAR
