BEGIN:VCALENDAR
PRODID:NingEventWidget-v1
VERSION:2.0
METHOD:PUBLISH
BEGIN:VTIMEZONE
TZID:Europe/London
X-LIC-LOCATION:Europe/London
BEGIN:DAYLIGHT
TZOFFSETFROM:+0000
TZOFFSETTO:+0100
TZNAME:BST
DTSTART:19700329T010000
RRULE:FREQ=YEARLY;BYMONTH=3;BYDAY=-1SU
END:DAYLIGHT
BEGIN:STANDARD
TZOFFSETFROM:+0100
TZOFFSETTO:+0000
TZNAME:GMT
DTSTART:19701025T020000
RRULE:FREQ=YEARLY;BYMONTH=10;BYDAY=-1SU
END:STANDARD
END:VTIMEZONE
BEGIN:VEVENT
UID:4626108:Event:286127
DTSTAMP:20260423T161852Z
SUMMARY:The Athena Network Lunch, Esher
DESCRIPTION:Athena Lunch at The Bear\r\nWe run focused, yet relaxed, n
 etworking lunches for local business women in the Esher area for both 
 Athena members & visitors.\r\nWe meet every month at our highly popula
 r lunches that include open networking, guest speakers, business train
 ing and the opportunity to promote your own business - whether well-es
 tablished or starting out.\r\nGuest speaker this month:Â TBC\r\nCOST:Â
  Â£28 for visitors (including lunch, refreshments, an Athena informati
 on pack,Â VAT) - Â£24 for Athena members\r\nBOOKING: Call Claire onÂ 0
 7877 705247Â or email claire.pelenc@theathenanetwork.com\r\nMAP\r\n---
 ----------------------------------------\r\nEVENT ORGANISERS:\r\nThe A
 thena Network,Â TheÂ Premier Networking Organisation for Women In Busi
 ness Focusing exclusively on women in business fulfilling a business d
 evelopment role, The Athena Network offers inspiring opportunities to 
 engage with business owners and decision makers from diverse industry 
 sectors. Founded on values of respect and integrity, Athena groups are
  committed to welcoming members and visitors in a relaxed, mutually su
 pportive and ethical environment. At the heart of Athenaâ€™s activitie
 s, networking groups meet each month over a good lunch in an attractiv
 e venue to make new contacts, develop valuable business expertise and 
 explore visionary ideas. Additional local and regional initiatives pro
 vide excellent membership value, through motivational workshops on net
 working skills and business planning, social events, training courses,
  business retreats and one-to-one consultancy services.\r\nVibrant and
  fast-growing, Athena is the UKâ€™s premier business networking organi
 sation for women in business and is establishing a significant interna
 tional presence.\r\n\n\nFor more information visit https://networkingi
 nsurrey.co.uk/events/the-athena-network-lunch-esher-14
DTSTART;TZID=Europe/London:20200211T120000
DTEND;TZID=Europe/London:20200211T140000
CATEGORIES:business, women, networking, lunch
LOCATION:The Bear - KT10 9RQ
WEBSITE:
URL:
CONTACT:07877 705 247
ORGANIZER:Claire Pelenc
ATTACH;FMTTYPE="image/jpeg":https://storage.ning.com/topology/rest/1.0
 /file/get/1775117945?profile=original
ATTENDEE;ROLE=REQ-PARTICIPANT;PARTSTAT=ACCEPTED;RSVP=TRUE;CN="Gilles P
 elenc":https://networkinginsurrey.co.uk/profile/GillesPelenc
END:VEVENT
END:VCALENDAR
