BEGIN:VCALENDAR
PRODID:NingEventWidget-v1
VERSION:2.0
METHOD:PUBLISH
BEGIN:VTIMEZONE
TZID:Europe/London
X-LIC-LOCATION:Europe/London
BEGIN:DAYLIGHT
TZOFFSETFROM:+0000
TZOFFSETTO:+0100
TZNAME:BST
DTSTART:19700329T010000
RRULE:FREQ=YEARLY;BYMONTH=3;BYDAY=-1SU
END:DAYLIGHT
BEGIN:STANDARD
TZOFFSETFROM:+0100
TZOFFSETTO:+0000
TZNAME:GMT
DTSTART:19701025T020000
RRULE:FREQ=YEARLY;BYMONTH=10;BYDAY=-1SU
END:STANDARD
END:VTIMEZONE
BEGIN:VEVENT
UID:4626108:Event:96664
DTSTAMP:20260422T232742Z
SUMMARY:The Athena Network Lunch, Cobham
DESCRIPTION:Athena Lunch at The Old Bear - VISITORS DAY\nWe run focuse
 d, yet relaxed, networking lunches for local business women in the Cob
 ham area for both Athena members & visitors.\nWe meet every month at o
 ur highly popular lunches that include open networking, guest speakers
 , business training and the opportunity to promote your own business -
  whether well-established or starting out.\nGuest speaker this month: 
 Kristyna Hawkett of Square AuPair\nCOST: £28 for visitors (including
  lunch, refreshments, an Athena information pack, VAT) - £24 for Ath
 ena members\nBOOKING: Call Claire or email claire.pelenc@theathenanetw
 ork.com\nMAP: click here to open map\n-------------------------------
 ------------\nEVENT ORGANISERS:\nThe Athena Network, The Premier Net
 working Organisation for Women In Business Focusing exclusively on wom
 en in business fulfilling a business development role, The Athena Netw
 ork offers inspiring opportunities to engage with business owners and 
 decision makers from diverse industry sectors. Founded on values of re
 spect and integrity, Athena groups are committed to welcoming members 
 and visitors in a relaxed, mutually supportive and ethical environment
 . At the heart of Athena’s activities, networking groups meet each m
 onth over a good lunch in an attractive venue to make new contacts, de
 velop valuable business expertise and explore visionary ideas. Additio
 nal local and regional initiatives provide excellent membership value,
  through motivational workshops on networking skills and business plan
 ning, social events, training courses, business retreats and one-to-on
 e consultancy services.\nVibrant and fast-growing, Athena is the UK’
 s premier business networking organisation for women in business and i
 s establishing a significant international presence.\n\n\nFor more inf
 ormation visit https://networkinginsurrey.co.uk/events/the-athena-netw
 ork-lunch-cobham-9
DTSTART;TZID=Europe/London:20180308T120000
DTEND;TZID=Europe/London:20180308T140000
CATEGORIES:business, women, networking, lunch
LOCATION:Wilwood The Old Bear - KT11 3DX
WEBSITE:http://theathenanetwork.co.uk/ClairePelenc
URL:http://theathenanetwork.co.uk/ClairePelenc
CONTACT:07877 705 247
ORGANIZER:Claire Pelenc
ATTACH;FMTTYPE="image/jpeg":http://storage.ning.com/topology/rest/1.0/
 file/get/2591450785?profile=original
ATTENDEE;ROLE=REQ-PARTICIPANT;PARTSTAT=ACCEPTED;RSVP=TRUE;CN="Gilles P
 elenc":https://networkinginsurrey.co.uk/profile/GillesPelenc
END:VEVENT
END:VCALENDAR
