BEGIN:VCALENDAR
PRODID:NingEventWidget-v1
VERSION:2.0
METHOD:PUBLISH
BEGIN:VTIMEZONE
TZID:Europe/London
X-LIC-LOCATION:Europe/London
BEGIN:DAYLIGHT
TZOFFSETFROM:+0000
TZOFFSETTO:+0100
TZNAME:BST
DTSTART:19700329T010000
RRULE:FREQ=YEARLY;BYMONTH=3;BYDAY=-1SU
END:DAYLIGHT
BEGIN:STANDARD
TZOFFSETFROM:+0100
TZOFFSETTO:+0000
TZNAME:GMT
DTSTART:19701025T020000
RRULE:FREQ=YEARLY;BYMONTH=10;BYDAY=-1SU
END:STANDARD
END:VTIMEZONE
BEGIN:VEVENT
UID:4626108:Event:286219
DTSTAMP:20260423T025735Z
SUMMARY:The Athena Network Lunch, Cobham
DESCRIPTION:Athena Lunch at The Fairmile\r\nWe run focused, yet relaxe
 d, networking lunches for local business women in the Cobham area for 
 both Athena members & visitors.\r\nWe meet every month at our highly p
 opular lunches that include open networking, guest speakers, business 
 training and the opportunity to promote your own business - whether we
 ll-established or starting out.\r\nGuest speaker this month: TBC\r\nCO
 ST: £28 for visitors (including lunch, refreshments, an Athena inform
 ation pack, VAT) - £24 for Athena members\r\nBOOKING: Call Claire on
  07877 705247 or email claire.pelenc@theathenanetwork.com\r\nMAP\r\n-
 ------------------------------------------\r\nEVENT ORGANISERS:\r\nThe
  Athena Network, The Premier Networking Organisation for Women In Bu
 siness\r\n Focusing exclusively on women in business fulfilling a busi
 ness development role, The Athena Network offers inspiring opportuniti
 es to engage with business owners and decision makers from diverse ind
 ustry sectors. Founded on values of respect and integrity, Athena grou
 ps are committed to welcoming members and visitors in a relaxed, mutua
 lly supportive and ethical environment.\r\n At the heart of Athena’s
  activities, networking groups meet each month over a good lunch in an
  attractive venue to make new contacts, develop valuable business expe
 rtise and explore visionary ideas. Additional local and regional initi
 atives provide excellent membership value, through motivational worksh
 ops on networking skills and business planning, social events, trainin
 g courses, business retreats and one-to-one consultancy services.\r\nV
 ibrant and fast-growing, Athena is the UK’s premier business network
 ing organisation for women in business and is establishing a significa
 nt international presence.\r\n\n\nFor more information visit https://n
 etworkinginsurrey.co.uk/events/the-athena-network-lunch-cobham-15
DTSTART;TZID=Europe/London:20200213T120000
DTEND;TZID=Europe/London:20200213T140000
CATEGORIES:business, women, networking, lunch
LOCATION:The Fairmile - KT11 1BW
WEBSITE:https://theathenanetwork.com/clairepelenc/
URL:https://theathenanetwork.com/clairepelenc/
CONTACT:07877705247
ORGANIZER:Claire Pelenc
ATTACH;FMTTYPE="image/jpeg":https://storage.ning.com/topology/rest/1.0
 /file/get/1775117945?profile=original
ATTENDEE;ROLE=REQ-PARTICIPANT;PARTSTAT=ACCEPTED;RSVP=TRUE;CN="Gilles P
 elenc":https://networkinginsurrey.co.uk/profile/GillesPelenc
END:VEVENT
END:VCALENDAR
