BEGIN:VCALENDAR
PRODID:NingEventWidget-v1
VERSION:2.0
METHOD:PUBLISH
BEGIN:VTIMEZONE
TZID:Europe/London
X-LIC-LOCATION:Europe/London
BEGIN:DAYLIGHT
TZOFFSETFROM:+0000
TZOFFSETTO:+0100
TZNAME:BST
DTSTART:19700329T010000
RRULE:FREQ=YEARLY;BYMONTH=3;BYDAY=-1SU
END:DAYLIGHT
BEGIN:STANDARD
TZOFFSETFROM:+0100
TZOFFSETTO:+0000
TZNAME:GMT
DTSTART:19701025T020000
RRULE:FREQ=YEARLY;BYMONTH=10;BYDAY=-1SU
END:STANDARD
END:VTIMEZONE
BEGIN:VEVENT
UID:4626108:Event:376496
DTSTAMP:20260421T210114Z
SUMMARY:The Athena Network Lunch, Camberley - Online
DESCRIPTION:Athena Camberley Online\r\nWe look forward to welcoming yo
 u to Athena Camberley online.\r\nWe have taken Athena Networking onlin
 e ! Our meetings continue using Zoom for us to carry out our networkin
 g virtually. We follow exactly the same meeting agenda, giving female 
 business owners the opportunity to connect and support one another in 
 business. \r\nThroughout this period of time, we are giving our exist
 ing members the opportunity to attend any Athena network meeting throu
 ghout the UK as long as their profession is not already taken in this 
 group. This gives members access to up to 150 meetings per month !\r\n
 Visitors are welcome to join us (fee applies) to find out about Athena
  and how our networking groups can help support you too!\r\n\r\nOur Bu
 siness Support Speaker this month will be announced shortly. \r\nDisco
 ver Networking The Athena Way\r\nCome and find out about Athena, our e
 thos, our values and our aims. There will be plenty of networking enab
 ling visitors to meet other like minded local business women, followed
  by inspirational speakers.\r\nAthena meetings are structured, interac
 tive, informative and professional whilst being fun and relaxed, provi
 ding the perfect combination for strong business partnerships as well 
 as friendship. We aim to create a vibrant, thriving and dynamic commun
 ity of women entrepreneurs and executives who not only collaborate and
  connect with like-minded women, they learn and grow in the process.\r
 \nAthena Camberley meetings take place every 3rd Thursday of the mont
 h (excl August & December)\r\nCOST: £30 Visitors\r\nVisiting members 
 can join using their Free Pass + as long as there is no professional l
 ock out.\r\nBOOKING: Please CLICK HERE to book via Eventbrite for de
 bit/credit card payments or call Charlotte on 07882993581 or email Cha
 rlotte.emery@theathenanetwork.com for BACS payments \r\n\r\n---------
 -------------------------------------------------------\r\nFind more A
 thena meetings here on Networking in Surrey...\n\nFor more information
  visit https://networkinginsurrey.co.uk/events/the-athena-network-lunc
 h-camberley-online-4
DTSTART;TZID=Europe/London:20200917T120000
DTEND;TZID=Europe/London:20200917T140000
CATEGORIES:networking, lunch, camberley, athena
LOCATION:Online via Zoom
WEBSITE:
URL:
CONTACT:
ORGANIZER;CN="Charlotte Emery":https://networkinginsurrey.co.uk/profil
 e/CharlotteEmery
ATTACH;FMTTYPE="image/jpeg":https://storage.ning.com/topology/rest/1.0
 /file/get/1775117945?profile=original
ATTENDEE;ROLE=REQ-PARTICIPANT;PARTSTAT=ACCEPTED;RSVP=TRUE;CN="Charlott
 e Emery":https://networkinginsurrey.co.uk/profile/CharlotteEmery
END:VEVENT
END:VCALENDAR
