BEGIN:VCALENDAR
PRODID:NingEventWidget-v1
VERSION:2.0
METHOD:PUBLISH
BEGIN:VTIMEZONE
TZID:Europe/London
X-LIC-LOCATION:Europe/London
BEGIN:DAYLIGHT
TZOFFSETFROM:+0000
TZOFFSETTO:+0100
TZNAME:BST
DTSTART:19700329T010000
RRULE:FREQ=YEARLY;BYMONTH=3;BYDAY=-1SU
END:DAYLIGHT
BEGIN:STANDARD
TZOFFSETFROM:+0100
TZOFFSETTO:+0000
TZNAME:GMT
DTSTART:19701025T020000
RRULE:FREQ=YEARLY;BYMONTH=10;BYDAY=-1SU
END:STANDARD
END:VTIMEZONE
BEGIN:VEVENT
UID:4626108:Event:1838
DTSTAMP:20260425T174111Z
SUMMARY:The Athena Network Lunch, Teddington
DESCRIPTION:Athena Network Lunch, Teddington\n\nThis month's Guest Spe
 akers : Alison Davey (Real Eyes Marketing) & Onika Staas (OS Web Desig
 n) 'SMO - It hurts so good'\nSocial media optimisation – statistics,
  real examples, why it’s so great, why it’s necessary and why it h
 urts so good. So if blogs and Facebook, Twitter,Linked In and RSS feed
 s are all a bit of a blur right now, come along and find out what all 
 the fuss is about, and how to make them all work for your business - w
 ithout the 'geek-speak'!\nYou will learn:\n- What’s the real inside 
 scoop\n- How it really works\n- Why you really have to do it\nToday's 
 presentaton is a collaboration between Real Eyes Marketing and OS Web 
 Design: Marketing and web design optimisation businesses - producers o
 f websites/blogs and social media integration, strategy and optimisati
 on services.\nCOST: Guests - £25 including lunch, refreshments & Athe
 na information pack. Members - £20\nBOOK HERE: Pre-registration is es
 sential - if would like to join us, please let us know 48 hours before
  the Meeting, so that we can reserve a place for you, as our events do
  sell out.\nContact NiS Member Robyn Hatley 01932 422 573 robyn.hatley
 @theathenanetwork.com\n----------------\nThe Athena Network runs focus
 ed, yet relaxed, networking lunches for local business women. Our busi
 ness meetings include open networking, guest speakers, business traini
 ng and the opportunity to promote your own business - whether well-est
 ablished or starting out.\n\nFor more information visit https://networ
 kinginsurrey.co.uk/events/the-athena-network-lunch-3
DTSTART;TZID=Europe/London:20100421T120000
DTEND;TZID=Europe/London:20100421T140000
CATEGORIES:lunch, women, teddington, the_athena_network
LOCATION:The Lensbury, Teddington TW11 9NU
WEBSITE:http://www.athenanetworkingrichmond.co.uk/
URL:http://www.athenanetworkingrichmond.co.uk/
CONTACT:01932 422 573
ORGANIZER:Robyn Hatley
ATTACH;FMTTYPE="image/jpeg":http://storage.ning.com/topology/rest/1.0/
 file/get/2591379311?profile=original
END:VEVENT
END:VCALENDAR
