BEGIN:VCALENDAR
PRODID:NingEventWidget-v1
VERSION:2.0
METHOD:PUBLISH
BEGIN:VTIMEZONE
TZID:Europe/London
X-LIC-LOCATION:Europe/London
BEGIN:DAYLIGHT
TZOFFSETFROM:+0000
TZOFFSETTO:+0100
TZNAME:BST
DTSTART:19700329T010000
RRULE:FREQ=YEARLY;BYMONTH=3;BYDAY=-1SU
END:DAYLIGHT
BEGIN:STANDARD
TZOFFSETFROM:+0100
TZOFFSETTO:+0000
TZNAME:GMT
DTSTART:19701025T020000
RRULE:FREQ=YEARLY;BYMONTH=10;BYDAY=-1SU
END:STANDARD
END:VTIMEZONE
BEGIN:VEVENT
UID:4626108:Event:1817
DTSTAMP:20260425T162152Z
SUMMARY:The Athena Network Lunch, Weybridge
DESCRIPTION:Athena Network Lunch, Weybridge\n\nThe Weybridge group mee
 ts on the 4th Thursday of every month (bar August).\nThis month we wel
 come Guest Speaker Sam New-Fielding of Newphoria - How to make EVERY c
 lient your BEST customer! Whatever your business, there are just three
  simple steps to ensuring every client becomes your best customer. Sam
  will show you where to start, what to do and even how to automate the
  process! What effect might these tips have on your company’s revenu
 e this year?\nAn extensively qualified energy medicine practitioner, S
 am previously spent 15 years in international sales and marketing, and
  was a director on the board of the last corporate she worked for. In 
 2005, Sam opened the Newphoria healing centre in Walton-on-Thames, whi
 ch now boasts an expert team of 15 alternative practitioners who toget
 her offer more than 30 therapies.\n\nAttendees will learn:\n1. Key poi
 nts to remember when dealing with a new client\n2. How to get the paym
 ent you deserve for every deal\n3. What to do to turn one happy custom
 er into a crowd of loyal fans\n\n\nCOST: Guests - £25 including lunch
 , refreshments & Athena information pack. Members - £20\nBOOK HERE: P
 re-registration is essential - if would like to join us, please let us
  know 48 hours before the Meeting, so that we can reserve a place for 
 you, as our events do sell out.\nContact Tricia Taylor 01932 882 340tr
 icia.taylor@theathenanetwork.com or NiS Member Robyn Hatley 01932 422 
 573 robyn.hatley@theathenanetwork.com\nMAP\nVENUE\nThere is limited pa
 rking in The Ship's own car park (usually adequate at lunchtime)\n----
 ------------\nThe Athena Network launched in Weybridge in November 200
 9. As one of the 130 Athena Network groups nationwide, Weybridge is al
 ready a very popular group. We run focused, yet relaxed, networking lu
 nches for local business women. Our business meetings include open net
 working, guest speakers, business training and the opportunity to prom
 ote your own business - whether well-established or starting out.\n\nF
 or more information visit https://networkinginsurrey.co.uk/events/the-
 athena-network-lunch-2
DTSTART;TZID=Europe/London:20100422T120000
DTEND;TZID=Europe/London:20100422T140000
CATEGORIES:lunch, women, weybridge, the_athena_network
LOCATION:The Ship Hotel, Weybridge KT13 8BQ
WEBSITE:http://www.athenanorthsurrey.co.uk/weybridge/
URL:http://www.athenanorthsurrey.co.uk/weybridge/
CONTACT:01932 422 573 Robyn Hatley
ORGANIZER:Robyn Hatley
ATTACH;FMTTYPE="image/jpeg":http://storage.ning.com/topology/rest/1.0/
 file/get/2591377286?profile=original
ATTENDEE;ROLE=REQ-PARTICIPANT;PARTSTAT=TENTATIVE;RSVP=TRUE;CN="Carolin
 e Walsh":https://networkinginsurrey.co.uk/profile/CarolineWalsh
END:VEVENT
END:VCALENDAR
