BEGIN:VCALENDAR
PRODID:NingEventWidget-v1
VERSION:2.0
METHOD:PUBLISH
BEGIN:VTIMEZONE
TZID:Europe/London
X-LIC-LOCATION:Europe/London
BEGIN:DAYLIGHT
TZOFFSETFROM:+0000
TZOFFSETTO:+0100
TZNAME:BST
DTSTART:19700329T010000
RRULE:FREQ=YEARLY;BYMONTH=3;BYDAY=-1SU
END:DAYLIGHT
BEGIN:STANDARD
TZOFFSETFROM:+0100
TZOFFSETTO:+0000
TZNAME:GMT
DTSTART:19701025T020000
RRULE:FREQ=YEARLY;BYMONTH=10;BYDAY=-1SU
END:STANDARD
END:VTIMEZONE
BEGIN:VEVENT
UID:4626108:Event:528639
DTSTAMP:20260420T083650Z
SUMMARY:The Athena Network: Haslemere
DESCRIPTION:The Athena Network: Haslemere Group \n\nFor our Haslemere
  Group meeting this September, we would like to offer you the opportun
 ity to visit for FREE and experience one of our monthly business netwo
 rking meetings.\nFind out more about The Athena Network, meet some new
  people, and pick up some top tips and referrals from other local Hasl
 emere Businesswomen.\nWe are a fabulous group of women from a wide ran
 ge of industry sectors, who are passionate about their business and wh
 o are looking to connect with and build professional relationships wit
 h other local businesswomen.\nNot just a networking group, The Athena 
 Network has three aims:\n\nto create strategic connections/ collaborat
 ions\nto deliver and develop business skills through our business talk
 s and workshops\nto inspire, motivate and support the women in our net
 work\n\nAbout Athena Meetings\nAthena meetings are structured, interac
 tive, informative, and professional whilst being fun and relaxed, prov
 iding the perfect combination for strong business partnerships. We aim
  to create a vibrant, thriving, and dynamic community of women entrepr
 eneurs and executives who collaborate and connect with like-minded wom
 en.\nOur meetings start at 12pm with \"open Zoom Room networking\" fol
 lowed by a structured meeting until 2pm. You'll have the opportunity t
 o present a 60-second \"pitch\" for your business so that we know who 
 to connect you with and how to support you. We also have a different B
 usiness Development Training speaker each month.\nThis month our Busin
 ess Development Training speaker will be:\nLouise Pengilley - Nfinite.
 co.uk\nHer talk will be: 'Learn communication techniques that will res
 ult in you winning more clients'.\nYou can be sure of a warm welcome, 
 so why not come and experience The Athena Network for yourself?\nBooki
 ng your Place\nVisitors are welcome, but booking is essential. We oper
 ate a one slot per profession policy, so please ensure you provide you
 r profession details with your booking. If you would like to check to 
 see if your profession isn't locked out before booking, please feel fr
 ee to contact me directly.\nCOST: FREE - Special September offer (usua
 lly £30)\nBOOKING: Please CLICK HERE to book\n--------------------
 ------------------------------------------------ To find out more abou
 t Athena, please: • call me on 07501 124113 • email: doris.holleuf
 er@theathenanetwork.com\n\n\nFor more information visit https://networ
 kinginsurrey.co.uk/events/the-athena-network-haslemere
DTSTART;TZID=Europe/London:20210928T120000
DTEND;TZID=Europe/London:20210928T140000
CATEGORIES:virtual, networking
LOCATION:Haslemere
WEBSITE:
URL:
CONTACT:
ORGANIZER;CN="Doris Holleufer":https://networkinginsurrey.co.uk/profil
 e/DorisHolleufer88
ATTACH;FMTTYPE="image/jpeg":https://storage.ning.com/topology/rest/1.0
 /file/get/9194563867?profile=original
ATTENDEE;ROLE=REQ-PARTICIPANT;PARTSTAT=ACCEPTED;RSVP=TRUE;CN="Doris Ho
 lleufer":https://networkinginsurrey.co.uk/profile/DorisHolleufer88
END:VEVENT
END:VCALENDAR
