BEGIN:VCALENDAR
PRODID:NingEventWidget-v1
VERSION:2.0
METHOD:PUBLISH
BEGIN:VTIMEZONE
TZID:Europe/London
X-LIC-LOCATION:Europe/London
BEGIN:DAYLIGHT
TZOFFSETFROM:+0000
TZOFFSETTO:+0100
TZNAME:BST
DTSTART:19700329T010000
RRULE:FREQ=YEARLY;BYMONTH=3;BYDAY=-1SU
END:DAYLIGHT
BEGIN:STANDARD
TZOFFSETFROM:+0100
TZOFFSETTO:+0000
TZNAME:GMT
DTSTART:19701025T020000
RRULE:FREQ=YEARLY;BYMONTH=10;BYDAY=-1SU
END:STANDARD
END:VTIMEZONE
BEGIN:VEVENT
UID:4626108:Event:526056
DTSTAMP:20260421T032537Z
SUMMARY:The Athena Network Haslemere Lunchtime Online-
DESCRIPTION:Athena Haslemere Online\r\nYou're welcome to visit us at o
 ur monthly business networking meeting, with like-minded businesswomen
 , entrepreneurs and executives. We are a fabulous group of women from 
 a wide range of industry sectors, who are passionate about their busin
 ess and who are looking to connect with and build professional relatio
 nships with other local businesswomen.\r\nAbout Athena Meetings\r\nAth
 ena meetings are structured, interactive, informative, and professiona
 l whilst being fun and relaxed, providing the perfect combination for 
 strong business partnerships.\r\nOur meetings start at 12pm with open 
 networking followed by a structured meeting until 2pm. You'll have the
  opportunity to present a 60 second \"pitch\" for your business, so th
 at we know who to connect you with and how to support you. We also hav
 e a different Business Development Speaker each month.\r\nThis month o
 ur Business Development Speaker will be:\r\nTania Fraser, The Whole is
  Greater (TWIG)\r\n'Visualising your networking efforts'\r\nUsing the 
 data you have to calculate the ROI of networking.\r\nBooking your Plac
 e\r\nVisitors are welcome, but booking is essential. We operate a one 
 slot per profession policy, so please check before you book that your 
 profession isn't represented. You can view our members and their profe
 ssions on our webpage. If you are not sure, please do email to check.\
 r\nSPECIAL OFFER\r\nIf you choose to join us after attending an online
  meeting, your visitor fee will be offset against the joining fee, so 
 you effectively visit for free!\r\nAthena Haslemere meetings take plac
 e every 4th Tuesday of the month (excl Aug & Dec)\r\nCOST: Non-members
  £32.93\r\nBOOKING: Please CLICK HERE to book via Eventbrite.\n\nFo
 r more information visit https://networkinginsurrey.co.uk/events/the-a
 thena-network-haslemere-group-guest-speaker-tania-fraser
DTSTART;TZID=Europe/London:20210323T120000
DTEND;TZID=Europe/London:20210323T140000
CATEGORIES:networking
LOCATION:Online
WEBSITE:
URL:
CONTACT:
ORGANIZER;CN="Doris Holleufer":https://networkinginsurrey.co.uk/profil
 e/DorisHolleufer88
ATTACH;FMTTYPE="image/jpeg":https://storage.ning.com/topology/rest/1.0
 /file/get/8680219678?profile=original
ATTENDEE;ROLE=REQ-PARTICIPANT;PARTSTAT=ACCEPTED;RSVP=TRUE;CN="Doris Ho
 lleufer":https://networkinginsurrey.co.uk/profile/DorisHolleufer88
END:VEVENT
END:VCALENDAR
