BEGIN:VCALENDAR
PRODID:NingEventWidget-v1
VERSION:2.0
METHOD:PUBLISH
BEGIN:VTIMEZONE
TZID:Europe/London
X-LIC-LOCATION:Europe/London
BEGIN:DAYLIGHT
TZOFFSETFROM:+0000
TZOFFSETTO:+0100
TZNAME:BST
DTSTART:19700329T010000
RRULE:FREQ=YEARLY;BYMONTH=3;BYDAY=-1SU
END:DAYLIGHT
BEGIN:STANDARD
TZOFFSETFROM:+0100
TZOFFSETTO:+0000
TZNAME:GMT
DTSTART:19701025T020000
RRULE:FREQ=YEARLY;BYMONTH=10;BYDAY=-1SU
END:STANDARD
END:VTIMEZONE
BEGIN:VEVENT
UID:4626108:Event:530982
DTSTAMP:20260424T145741Z
SUMMARY:Athena Network: Haslemere and Petersfield Lunchtime Online
DESCRIPTION:You're welcome to visit us at our monthly business network
 ing meeting, with like-minded businesswomen, entrepreneurs, and execut
 ives. We are a fabulous group of women from a wide range of industry s
 ectors, who are passionate about their business and who are looking to
  connect with and build professional relationships with other local bu
 sinesswomen.\r\nNot just a networking group, The Athena Network has th
 ree aims: \r\n\r\nto create strategic connections/ collaborations\r\n
 to deliver and develop business skills through our business talks and 
 workshops\r\nto inspire, motivate and support the women in our network
 \r\n\r\nAbout Athena Meetings\r\nAthena meetings are structured, inter
 active, informative, and professional whilst being fun and relaxed, pr
 oviding the perfect combination for strong business partnerships. We a
 im to create a vibrant, thriving, and dynamic community of women entre
 preneurs and executives who collaborate and connect with like-minded w
 omen.\r\nOur meetings start at 12pm with \"open Zoom Room networking\"
  followed by a structured meeting until 2pm. You'll have the opportuni
 ty to present a 60-second \"pitch\" for your business so that we know 
 who to connect you with and how to support you. We also have a differe
 nt Business Development Training speaker each month.\r\nThis month our
  Business Development Training speaker will be:\r\nJane Barrett, Nutri
 tional Therapist at Nurturing Nutrition\r\n\r\nYou can be sure of a wa
 rm welcome, so why not come and experience The Athena Network for your
 self?\r\nBooking your Place\r\nVisitors are welcome, but booking is es
 sential. We operate a one slot per profession policy, so please ensure
  you provide your profession details with your booking. If you would l
 ike to check to see if your profession isn't locked out before booking
 , please feel free to contact me directly.\r\nSPECIAL OFFER\r\nIf you 
 choose to join us after attending an online meeting, your visitor fee 
 will be offset against the subscription fee, meaning you effectively v
 isit for free! \r\nCOST: £30\r\nBOOKING: Please CLICK HERE to boo
 k\r\nTo find out more about Athena, please email: doris.holleufer@thea
 thenanetwork.com\n\nFor more information visit https://networkinginsur
 rey.co.uk/events/the-athena-network-haslemere-and-petersfield-groups
DTSTART;TZID=Europe/London:20220118T120000
DTEND;TZID=Europe/London:20220118T140000
CATEGORIES:virtual, networking
LOCATION:Haslemere
WEBSITE:
URL:
CONTACT:
ORGANIZER;CN="Doris Holleufer":https://networkinginsurrey.co.uk/profil
 e/DorisHolleufer88
ATTACH;FMTTYPE="image/jpeg":https://storage.ning.com/topology/rest/1.0
 /file/get/9194563867?profile=original
ATTENDEE;ROLE=REQ-PARTICIPANT;PARTSTAT=ACCEPTED;RSVP=TRUE;CN="Doris Ho
 lleufer":https://networkinginsurrey.co.uk/profile/DorisHolleufer88
END:VEVENT
END:VCALENDAR
