BEGIN:VCALENDAR
PRODID:NingEventWidget-v1
VERSION:2.0
METHOD:PUBLISH
BEGIN:VTIMEZONE
TZID:Europe/London
X-LIC-LOCATION:Europe/London
BEGIN:DAYLIGHT
TZOFFSETFROM:+0000
TZOFFSETTO:+0100
TZNAME:BST
DTSTART:19700329T010000
RRULE:FREQ=YEARLY;BYMONTH=3;BYDAY=-1SU
END:DAYLIGHT
BEGIN:STANDARD
TZOFFSETFROM:+0100
TZOFFSETTO:+0000
TZNAME:GMT
DTSTART:19701025T020000
RRULE:FREQ=YEARLY;BYMONTH=10;BYDAY=-1SU
END:STANDARD
END:VTIMEZONE
BEGIN:VEVENT
UID:4626108:Event:528529
DTSTAMP:20260420T064249Z
SUMMARY:The Athena Network: Guildford
DESCRIPTION:The Athena Network: Guildford Group \n\nYou're welcome to
  visit us at our monthly business networking meeting, with like-minded
  businesswomen, entrepreneurs, and executives. We are a fabulous group
  of women from a wide range of industry sectors, who are passionate ab
 out their business and who are looking to connect with and build profe
 ssional relationships with other local businesswomen.\nNot just a netw
 orking group, The Athena Network has three aims: \n\nto create strate
 gic connections/ collaborations\nto deliver and develop business skill
 s through our business talks and workshops\nto inspire, motivate and s
 upport the women in our network\n\nAbout Athena Meetings\nAthena meeti
 ngs are structured, interactive, informative, and professional whilst 
 being fun and relaxed, providing the perfect combination for strong bu
 siness partnerships. We aim to create a vibrant, thriving, and dynamic
  community of women entrepreneurs and executives who collaborate and c
 onnect with like-minded women.\nOur meetings start at 12pm with \"open
  Zoom Room networking\" followed by a structured meeting until 2pm. Yo
 u'll have the opportunity to present a 60-second \"pitch\" for your bu
 siness so that we know who to connect you with and how to support you.
  We also have a different Business Development Training speaker each m
 onth.\nThis month our Business Development Training speaker will be:\n
 Nicola Powell - Curious Dog Media and Regional Director for The Athena
  Network - Kent\nHer talk will be: \"My Top Tips for Business Video Cr
 eation\".\nShe helps women in business conquer their video fears, and 
 master the art of video creation for business, having some fun along t
 he way...\nShe will share her top tips for video creation that you can
  apply straight away to create professional-looking videos for your bu
 siness.\nYou can be sure of a warm welcome, so why not come and experi
 ence The Athena Network for yourself?\nBooking your Place\nVisitors ar
 e welcome, but booking is essential. We operate a one slot per profess
 ion policy, so please ensure you provide your profession details with 
 your booking. If you would like to check to see if your profession isn
 't locked out before booking, please feel free to contact me directly.
 \nSPECIAL OFFER\nIf you choose to join us after attending an online me
 eting, your visitor fee will be offset against the subscription fee, m
 eaning you effectively visit for free! \nCOST: £30\nBOOKING: Please
  CLICK HERE to book\n-----------------------------------------------
 --------------------- To find out more about Athena, please: • call 
 me on 07501 124113 • email: doris.holleufer@theathenanetwork.com\n\n
 \nFor more information visit https://networkinginsurrey.co.uk/events/t
 he-athena-network-guildford
DTSTART;TZID=Europe/London:20210922T120000
DTEND;TZID=Europe/London:20210922T140000
CATEGORIES:virtual, networking
LOCATION:Guildford
WEBSITE:
URL:
CONTACT:
ORGANIZER;CN="Doris Holleufer":https://networkinginsurrey.co.uk/profil
 e/DorisHolleufer88
ATTACH;FMTTYPE="image/jpeg":https://storage.ning.com/topology/rest/1.0
 /file/get/9194563867?profile=original
ATTENDEE;ROLE=REQ-PARTICIPANT;PARTSTAT=ACCEPTED;RSVP=TRUE;CN="Doris Ho
 lleufer":https://networkinginsurrey.co.uk/profile/DorisHolleufer88
END:VEVENT
END:VCALENDAR
