BEGIN:VCALENDAR
PRODID:NingEventWidget-v1
VERSION:2.0
METHOD:PUBLISH
BEGIN:VTIMEZONE
TZID:Europe/London
X-LIC-LOCATION:Europe/London
BEGIN:DAYLIGHT
TZOFFSETFROM:+0000
TZOFFSETTO:+0100
TZNAME:BST
DTSTART:19700329T010000
RRULE:FREQ=YEARLY;BYMONTH=3;BYDAY=-1SU
END:DAYLIGHT
BEGIN:STANDARD
TZOFFSETFROM:+0100
TZOFFSETTO:+0000
TZNAME:GMT
DTSTART:19701025T020000
RRULE:FREQ=YEARLY;BYMONTH=10;BYDAY=-1SU
END:STANDARD
END:VTIMEZONE
BEGIN:VEVENT
UID:4626108:Event:12105
DTSTAMP:20260422T215939Z
SUMMARY:Sutton Chamber Speed Networking Lunch, Banstead
DESCRIPTION:Speed Networking at Cuddington\n\nThe first of three Speed
  Networking events will take place at Cuddington Golf Club on Wednesda
 y 20th April 2011. \n11.45 Arrivals, Registration & Coffee\n12.10 Sta
 rt of your 90 second presentations, moving tables after each table of 
 8 has finished.\n13.30 Lunch and further networking\n14.15 Close and d
 epart\n \nCOST: Chamber Members £15 Non-Members £25\nCLICK HERE TO 
 BOOK\n﻿MAP\n \n\n\nFor more information visit https://networkingins
 urrey.co.uk/events/sutton-chamber-speed
DTSTART;TZID=Europe/London:20110420T114500
DTEND;TZID=Europe/London:20110420T143000
CATEGORIES:speed, networking
LOCATION:Cuddington Golf Club SM7 1RD
WEBSITE:http://www.suttonchamber.co.uk
URL:http://www.suttonchamber.co.uk
CONTACT:020 8642 9661
ORGANIZER;CN="Paul Cawthorne":https://networkinginsurrey.co.uk/profile
 /PaulCawthorne
ATTACH;FMTTYPE="image/jpeg":http://storage.ning.com/topology/rest/1.0/
 file/get/2591391149?profile=original
ATTENDEE;ROLE=REQ-PARTICIPANT;PARTSTAT=ACCEPTED;RSVP=TRUE;CN="Paul Caw
 thorne":https://networkinginsurrey.co.uk/profile/PaulCawthorne
END:VEVENT
END:VCALENDAR
