BEGIN:VCALENDAR
PRODID:NingEventWidget-v1
VERSION:2.0
METHOD:PUBLISH
BEGIN:VTIMEZONE
TZID:Europe/London
X-LIC-LOCATION:Europe/London
BEGIN:DAYLIGHT
TZOFFSETFROM:+0000
TZOFFSETTO:+0100
TZNAME:BST
DTSTART:19700329T010000
RRULE:FREQ=YEARLY;BYMONTH=3;BYDAY=-1SU
END:DAYLIGHT
BEGIN:STANDARD
TZOFFSETFROM:+0100
TZOFFSETTO:+0000
TZNAME:GMT
DTSTART:19701025T020000
RRULE:FREQ=YEARLY;BYMONTH=10;BYDAY=-1SU
END:STANDARD
END:VTIMEZONE
BEGIN:VEVENT
UID:4626108:Event:9618
DTSTAMP:20260423T110814Z
SUMMARY:Sutton Chamber Networking Breakfast
DESCRIPTION:Sutton Chamber Breakfast at the Holiday Inn\n\nThis month 
 the Sutton Chamber of Commerce networking breakfast falls in Fairtrade
  Fortnight. \nOur guest speaker this month is Sophi Tranchell who has
  championed Fairtrade in the food industry for eleven years as MD of D
 ivine Chocolate, and has chaired the London Fairtrade Steering group f
 or the past three years. She is also a social enterprise ambassador pr
 omoting a different way of doing business.  In 2009 she was made MBE 
 for services to the food industry.\nCome and hear how she developed th
 e business and her plans for the future of Devine.\n \nCOST: Members 
 £10.00, non-members £20.00\nTO BOOK: Please register online at www.s
 uttonchamber.co.uk -  HERE\nMAP\n\nFor more information visit https:/
 /networkinginsurrey.co.uk/events/sutton-chamber-networking
DTSTART;TZID=Europe/London:20110302T071500
DTEND;TZID=Europe/London:20110302T093000
CATEGORIES:networking, breakfast, sutton_chamber
LOCATION:The Holiday Inn Sutton SM1 2RF
WEBSITE:http://www.suttonchamber.co.uk
URL:http://www.suttonchamber.co.uk
CONTACT:0845 345 2592
ORGANIZER;CN="David Duncan":https://networkinginsurrey.co.uk/profile/D
 avidDuncan
ATTACH;FMTTYPE="image/jpeg":http://storage.ning.com/topology/rest/1.0/
 file/get/2591391354?profile=original
ATTENDEE;ROLE=REQ-PARTICIPANT;PARTSTAT=ACCEPTED;RSVP=TRUE;CN="Paul Caw
 thorne":https://networkinginsurrey.co.uk/profile/PaulCawthorne
ATTENDEE;ROLE=REQ-PARTICIPANT;PARTSTAT=ACCEPTED;RSVP=TRUE;CN="David Du
 ncan":https://networkinginsurrey.co.uk/profile/DavidDuncan
ATTENDEE;ROLE=REQ-PARTICIPANT;PARTSTAT=ACCEPTED;RSVP=TRUE;CN="Helen Co
 lechin":https://networkinginsurrey.co.uk/profile/HelenColechin
END:VEVENT
END:VCALENDAR
