BEGIN:VCALENDAR
PRODID:NingEventWidget-v1
VERSION:2.0
METHOD:PUBLISH
BEGIN:VTIMEZONE
TZID:Europe/London
X-LIC-LOCATION:Europe/London
BEGIN:DAYLIGHT
TZOFFSETFROM:+0000
TZOFFSETTO:+0100
TZNAME:BST
DTSTART:19700329T010000
RRULE:FREQ=YEARLY;BYMONTH=3;BYDAY=-1SU
END:DAYLIGHT
BEGIN:STANDARD
TZOFFSETFROM:+0100
TZOFFSETTO:+0000
TZNAME:GMT
DTSTART:19701025T020000
RRULE:FREQ=YEARLY;BYMONTH=10;BYDAY=-1SU
END:STANDARD
END:VTIMEZONE
BEGIN:VEVENT
UID:4626108:Event:1744
DTSTAMP:20260426T021932Z
SUMMARY:Surrey Social Media Tribes Evening, Guildford
DESCRIPTION:Social Media Monitoring\n\n\nWe are at the cusp of a chang
 e in society. As we speak, we are moving away from the \"Industrial ag
 e\" and into \"The Information age\".\nThe method of \"communication\"
  is moving towards \"web systems\" and with the advent of web 2.0 (ie 
 you and me being able to upload words, video, audio and pictures) ther
 e is an ever growing database of information, opinion and action on th
 e web. Consumers are influencing consumers. Consumers are influencing 
 the web! So with the volume of noise there is, how do we get to unders
 tand it? Listen to it? Deal with it? Use it? There are answers coming.
  One of them is here. It’s called social media monitoring, and in pa
 rticular some software from a company called Alterian. At April’s Su
 rrey Social Media Tribes meeting we will discussing this software and 
 Nick Tadd will be showcasing it for you.\nAGENDA: 18.30 to 19.15 – N
 etworking. 19.15 to 20.30 Social Media Monitoring Presentation: Nick T
 add 20.30 to 21.30 Business Challenge and networking\nCOST: £10 in ad
 vance, or £15 on the door, on the day (places permitting).\nBOOK HERE
 \nMAP\nParking: Ample and free\nRefreshments: Available to buy (hotel 
 rates)\n-------------------------\n\nSocial Media Tribes was founded b
 y husband and wife duo and full time professional Landlords, NiS Membe
 r Vanessa Warwick and Nick Tadd. They are also both passionate advocat
 es and expert practitioners of social media in all its manifestations,
  and provide consultancy services in 'online findability' to companies
  and organisations large and small, in the UK and beyond. For a lesson
  in findability, simply type either or both their names into Google!\n
 \nFor more information visit https://networkinginsurrey.co.uk/events/s
 urrey-social-media-tribes
DTSTART;TZID=Europe/London:20100415T183000
DTEND;TZID=Europe/London:20100415T210000
CATEGORIES:seminar, evening, guildford, training
LOCATION:Holiday Inn, Guildford GU2 7XZ
WEBSITE:http://socialmediatribes.co.uk/home.php
URL:http://socialmediatribes.co.uk/home.php
CONTACT:07767 370429
ORGANIZER:Nick Tadd & Vanessa Warwick
ATTACH;FMTTYPE="image/jpeg":http://storage.ning.com/topology/rest/1.0/
 file/get/2591378061?profile=original
ATTENDEE;ROLE=REQ-PARTICIPANT;PARTSTAT=ACCEPTED;RSVP=TRUE;CN="Keith Gr
 over, NiS Founder":https://networkinginsurrey.co.uk/profile/KeithGrove
 r
END:VEVENT
END:VCALENDAR
