BEGIN:VCALENDAR
PRODID:NingEventWidget-v1
VERSION:2.0
METHOD:PUBLISH
BEGIN:VTIMEZONE
TZID:Europe/London
X-LIC-LOCATION:Europe/London
BEGIN:DAYLIGHT
TZOFFSETFROM:+0000
TZOFFSETTO:+0100
TZNAME:BST
DTSTART:19700329T010000
RRULE:FREQ=YEARLY;BYMONTH=3;BYDAY=-1SU
END:DAYLIGHT
BEGIN:STANDARD
TZOFFSETFROM:+0100
TZOFFSETTO:+0000
TZNAME:GMT
DTSTART:19701025T020000
RRULE:FREQ=YEARLY;BYMONTH=10;BYDAY=-1SU
END:STANDARD
END:VTIMEZONE
BEGIN:VEVENT
UID:4626108:Event:2494
DTSTAMP:20260426T050349Z
SUMMARY:Surrey Social Media Tribes Evening, Guildford
DESCRIPTION:\"Double your Twitter following … \"\n\n\nThis month at 
 Surrey Social Media Tribes, we will be sharing our strategies for buil
 ding a targeted Twitter following to aid business exposure. Join us fo
 r “hands on” following building strategies and see your twitter fo
 llowing grow and your traction increase.\n\nThis is not a “get follo
 wers quick” scheme. We will be sharing specific, proven strategies t
 o help you achieve a targeted following, help you gain traction, and h
 elp you optimise twitter for business exposure in a social manner.\n\n
 Bring your laptop and double your following!\n\nCOST: £10 in advance,
  or £15 on the door, on the day (places permitting).\nBOOK HERE\nMAP\
 nParking: Ample and free\nRefreshments: Available to buy (hotel rates)
 \n-------------------------\n\nSocial Media Tribes was founded by husb
 and and wife duo and full time professional Landlords, NiS Member Vane
 ssa Warwick and Nick Tadd. They are also both passionate advocates and
  expert practitioners of social media in all its manifestations, and p
 rovide consultancy services in 'online findability' to companies and o
 rganisations large and small, in the UK and beyond. For a lesson in fi
 ndability, simply type either or both their names into Google!\n\nFor 
 more information visit https://networkinginsurrey.co.uk/events/surrey-
 social-media-tribes-1
DTSTART;TZID=Europe/London:20100527T183000
DTEND;TZID=Europe/London:20100527T210000
CATEGORIES:seminar, evening, guildford, training
LOCATION:Holiday Inn, Guildford GU2 7XZ
WEBSITE:http://socialmediatribes.co.uk/home.php
URL:http://socialmediatribes.co.uk/home.php
CONTACT:07767 370429
ORGANIZER:Nick Tadd & Vanessa Warwick
ATTACH;FMTTYPE="image/jpeg":http://storage.ning.com/topology/rest/1.0/
 file/get/2591380086?profile=original
ATTENDEE;ROLE=REQ-PARTICIPANT;PARTSTAT=ACCEPTED;RSVP=TRUE;CN="Keith Gr
 over, NiS Founder":https://networkinginsurrey.co.uk/profile/KeithGrove
 r
END:VEVENT
END:VCALENDAR
