BEGIN:VCALENDAR
PRODID:NingEventWidget-v1
VERSION:2.0
METHOD:PUBLISH
BEGIN:VTIMEZONE
TZID:Europe/London
X-LIC-LOCATION:Europe/London
BEGIN:DAYLIGHT
TZOFFSETFROM:+0000
TZOFFSETTO:+0100
TZNAME:BST
DTSTART:19700329T010000
RRULE:FREQ=YEARLY;BYMONTH=3;BYDAY=-1SU
END:DAYLIGHT
BEGIN:STANDARD
TZOFFSETFROM:+0100
TZOFFSETTO:+0000
TZNAME:GMT
DTSTART:19701025T020000
RRULE:FREQ=YEARLY;BYMONTH=10;BYDAY=-1SU
END:STANDARD
END:VTIMEZONE
BEGIN:VEVENT
UID:4626108:Event:4080
DTSTAMP:20260425T120612Z
SUMMARY:Surrey Jelly at Caterham
DESCRIPTION:Are you based in Surrey? Would you like the the chance to 
 get out of the (home)office and work alongside other like-minded busin
 ess people for one day a month?\n\nWhat is Jelly? Jelly is a casual mo
 nthly co-working event, where homeworkers, freelancers, small business
  owners who want a change of working scene once in a while can get tog
 ether with their laptops once a month to have a change from their usua
 l workplace, meet some new people and work together in a social enviro
 nment .\n\nJelly is mainly about work with a bit of chat, sharing idea
 s, helping others with business issues, passing on tips and maybe even
  collaborating on a new project. Jelly is NOT networking- it isn't abo
 ut trying to find new clients, pitching your business or trying to sel
 l. Doing any of that is guaranteed to make you instantly unpopular.\n\
 nIt's FREE to come along, all you need do is bring some money to buy y
 ourself tea/coffee. You are welcome to bring your own lunch or there i
 s a local supermarket a couple of minutes walk away.\n\nWhen is it? Th
 e first Surrey Jelly at Caterham will be on 22nd September and monthly
  thereafter. Places are limited and anyone wanting to come along will 
 need to book a free ticket.\n\nWhere is it? Bronzeoak Business Centre,
  Stafford Road, Caterham, Surrey CR3 6JG Parking There are 7 free park
 ing spaces available on site, you will need to get a parking ticket as
  well. When you arrive you need to show your parking ticket to the rec
 eptionist to qualify for a parking permit. If you don't have one of th
 ese parking tickets with you will not be issued with a parking permit 
 and will be asked to park off site. Free parking is also available fur
 ther down Stafford Road.\n\nDo I have to stay all day? People can turn
  up at any point from the starting point, introduce themselves to the 
 organiser, plug in their laptop and access the wi fi with no obligatio
 n to be there from start to finish so you can fit Jelly in around othe
 r commitments like the school run. Obviously the longer you're there t
 he more vibrant and interactive the day will be.\n\nDo I qualify? As l
 ong as you have a laptop to keep you busy and you're a business person
  then you qualify. The more variety of people we have attending the be
 tter! Even if you're still researching a business you're more than wel
 come to come along and get some inspiration!\n\nWho's organising it? L
 yn French and Hazel McLellan of findgoodcustomerservice.com.\n\nAny qu
 estions? @SurreyJelly on Twitter or email lyn@fgcs.co.uk or hazel@fgcs
 .co.uk\n\nInterested in coming along? You MUST sign up to be able to c
 ome along as numbers are strictly limited http://surreyjellycaterham.e
 ventbrite.com/\n\nIf you do not get a place you'll go the waiting list
  to replace anyone who drops out last minute. If you get a ticket and 
 subsequently can't attend then PLEASE let us know so we can reallocate
  your space - thank you.\n\nFor more information visit https://network
 inginsurrey.co.uk/events/surrey-jelly-at-caterham
DTSTART;TZID=Europe/London:20100922T093000
DTEND;TZID=Europe/London:20100922T163000
CATEGORIES:co-working, event
LOCATION:Bronzeoak Business Centre
WEBSITE:http://bronzeoakbusinesscentre.co.uk/find_us.php
URL:http://bronzeoakbusinesscentre.co.uk/find_us.php
CONTACT:07811 934279
ORGANIZER;CN="Lyn French":https://networkinginsurrey.co.uk/profile/Lyn
 French
ATTACH;FMTTYPE="image/jpeg":http://storage.ning.com/topology/rest/1.0/
 file/get/2591386876?profile=original
ATTENDEE;ROLE=REQ-PARTICIPANT;PARTSTAT=ACCEPTED;RSVP=TRUE;CN="Lyn Fren
 ch":https://networkinginsurrey.co.uk/profile/LynFrench
END:VEVENT
END:VCALENDAR
