BEGIN:VCALENDAR
PRODID:NingEventWidget-v1
VERSION:2.0
METHOD:PUBLISH
BEGIN:VTIMEZONE
TZID:Europe/London
X-LIC-LOCATION:Europe/London
BEGIN:DAYLIGHT
TZOFFSETFROM:+0000
TZOFFSETTO:+0100
TZNAME:BST
DTSTART:19700329T010000
RRULE:FREQ=YEARLY;BYMONTH=3;BYDAY=-1SU
END:DAYLIGHT
BEGIN:STANDARD
TZOFFSETFROM:+0100
TZOFFSETTO:+0000
TZNAME:GMT
DTSTART:19701025T020000
RRULE:FREQ=YEARLY;BYMONTH=10;BYDAY=-1SU
END:STANDARD
END:VTIMEZONE
BEGIN:VEVENT
UID:4626108:Event:292629
DTSTAMP:20260422T153625Z
SUMMARY:Surrey Hills Sustainable Business Showcase Evening, Guildford
DESCRIPTION:Sustainable Business Showcase at the University of Surrey\
 r\n\r\nIn May 2019 a group of Surrey Hills Members came together to fo
 rm the Surrey Hills Sustainable Alternatives Initiative. The group has
  been working to raise awareness of the challenges as well as solution
 s for the Surrey Hills community.\r\nThe eventÂ  programme includes ex
 cellent opportunities for networking, exchange and building collaborat
 ion with a wide range of organisations who are there to inform, inspir
 e and support your business to become more sustainable\r\nAlongside th
 e event programme, there will be an exhibition showcasing businesses a
 nd organisations who are leading the way in sustainability. Exhibitors
  have been chosen for their ability to share knowledge and solutions a
 nd to support other business with their sustainability strategy\r\nWou
 ld you like to increase awareness of how your business is approaching 
 sustainability?\r\nThere are still spaces available to showcase your b
 usiness or serviceÂ  â€“ you can book a stand for a nominal additional
  fee (stands on a first come first served basis)Â  - info from fiona@f
 iona-ross.comÂ \r\nCOST: Â£18 to attend\r\nBOOKING: Please CLICK HEREÂ
  for more info and to bookÂ \r\nMAP\r\nPlan of Campus pdfÂ Â The Campu
 s is very confusing if you don't know your way around. Park in the Pay
  and Display Car Park and nearby you'll see the distinctive Rik Medlik
  Building (18) on the campus map, with an oblong pool in front of it. 
 This is the home of the Business School.\n\nFor more information visit
  https://networkinginsurrey.co.uk/events/surrey-hills-sustainable-busi
 ness-showcase-evening-guildford
DTSTART;TZID=Europe/London:20200114T180000
DTEND;TZID=Europe/London:20200114T203000
CATEGORIES:networking, exhibition, evening, guildford
LOCATION:Business School, Rik Medlik Building, University of Surrey
WEBSITE:
URL:
CONTACT:
ORGANIZER:Fiona Ross, Surrey Hills Enterprise
ATTACH;FMTTYPE="image/jpeg":https://storage.ning.com/topology/rest/1.0
 /file/get/3818761073?profile=original
ATTENDEE;ROLE=REQ-PARTICIPANT;PARTSTAT=ACCEPTED;RSVP=TRUE;CN="Keith Gr
 over, NiS Founder":https://networkinginsurrey.co.uk/profile/KeithGrove
 r
END:VEVENT
END:VCALENDAR
