BEGIN:VCALENDAR
PRODID:NingEventWidget-v1
VERSION:2.0
METHOD:PUBLISH
BEGIN:VTIMEZONE
TZID:Europe/London
X-LIC-LOCATION:Europe/London
BEGIN:DAYLIGHT
TZOFFSETFROM:+0000
TZOFFSETTO:+0100
TZNAME:BST
DTSTART:19700329T010000
RRULE:FREQ=YEARLY;BYMONTH=3;BYDAY=-1SU
END:DAYLIGHT
BEGIN:STANDARD
TZOFFSETFROM:+0100
TZOFFSETTO:+0000
TZNAME:GMT
DTSTART:19701025T020000
RRULE:FREQ=YEARLY;BYMONTH=10;BYDAY=-1SU
END:STANDARD
END:VTIMEZONE
BEGIN:VEVENT
UID:4626108:Event:103622
DTSTAMP:20260424T050841Z
SUMMARY:Surrey Event Professionals Evening, Godalming
DESCRIPTION:Surrey Event Professionals Evening at Guildford Rugby Club
 \r\n\r\nA specialist networking aimed only at event, wedding and venue
  professionals and suppliers. \r\nThis evening's event will be showca
 sing:\r\nTim Henniker-Parker – Photographer, offering 50% off headsh
 ots taken ON THE NIGHT!!! (This means they are only £20 - a bargain w
 hich ties in nicely with our LinkedIn talk)\r\nLove from lila xx – S
 upplying tasty treats\r\nLinkedIn Presentation: Allen Ruddock – Li
 nked Business\r\nTo register or find out more visit the Surrey Events 
 Professionals website here... \r\nCOST: £15 \r\nBOOKING: Please C
 LICK HERE to book\r\nMAP\n\nFor more information visit https://networ
 kinginsurrey.co.uk/events/surrey-event-professionals
DTSTART;TZID=Europe/London:20190205T180000
DTEND;TZID=Europe/London:20190205T213000
CATEGORIES:specialist, event, networking, evening, godalming
LOCATION:Broadwater Pavilion, Guildford Rugby Club GU7 3BU
WEBSITE:http://www.surreyeventprofessionals.co.uk
URL:http://www.surreyeventprofessionals.co.uk
CONTACT:
ORGANIZER;CN="Steve Page":https://networkinginsurrey.co.uk/profile/Ste
 vePage685
ATTACH;FMTTYPE="image/jpeg":https://storage.ning.com/topology/rest/1.0
 /file/get/908105845?profile=original
ATTENDEE;ROLE=REQ-PARTICIPANT;PARTSTAT=ACCEPTED;RSVP=TRUE;CN="Steve Pa
 ge":https://networkinginsurrey.co.uk/profile/StevePage685
END:VEVENT
END:VCALENDAR
