BEGIN:VCALENDAR
PRODID:NingEventWidget-v1
VERSION:2.0
METHOD:PUBLISH
BEGIN:VTIMEZONE
TZID:Europe/London
X-LIC-LOCATION:Europe/London
BEGIN:DAYLIGHT
TZOFFSETFROM:+0000
TZOFFSETTO:+0100
TZNAME:BST
DTSTART:19700329T010000
RRULE:FREQ=YEARLY;BYMONTH=3;BYDAY=-1SU
END:DAYLIGHT
BEGIN:STANDARD
TZOFFSETFROM:+0100
TZOFFSETTO:+0000
TZNAME:GMT
DTSTART:19701025T020000
RRULE:FREQ=YEARLY;BYMONTH=10;BYDAY=-1SU
END:STANDARD
END:VTIMEZONE
BEGIN:VEVENT
UID:4626108:Event:74801
DTSTAMP:20260425T214753Z
SUMMARY:Surrey Directors' BOARD Lunch, Shalford
DESCRIPTION:Surrey Directors' Board Lunch at The Seahorse\n\n'The Boar
 d' was set up for senior individuals to discuss business issues with t
 rusted colleagues, and to build strong business relationships with a p
 eer group.  \nOnly one member of each sector or profession can join 
 each Board. The intention is that members attend most monthly Board me
 etings. Confidentiality of conversations is maintained under the Chath
 am House rule.\nBoard meetings are held over lunch - the bill is equal
 ly split amongst Board members. Visitors can try out The Board at a sp
 ecial rate of £25+VAT plus an equal share of the lunch bill.\nCOST: 
 £25+VAT plus lunch costs\nBOOKING: Please CLICK HERE for  more inf
 ormation or email philip@pealpartnership.co.uk.\nMAP\n\nFor more info
 rmation visit https://networkinginsurrey.co.uk/events/surrey-directors
 -board-lunch-shalford-2
DTSTART;TZID=Europe/London:20151111T123000
DTEND;TZID=Europe/London:20151111T143000
CATEGORIES:board, networking
LOCATION:The Seahorse GU4 8BU
WEBSITE:
URL:
CONTACT:0203 0044779
ORGANIZER;CN="Philip Mendonça":https://networkinginsurrey.co.uk/profi
 le/PhilipMendonca
ATTACH;FMTTYPE="image/jpeg":http://storage.ning.com/topology/rest/1.0/
 file/get/923063544?profile=original
ATTENDEE;ROLE=REQ-PARTICIPANT;PARTSTAT=ACCEPTED;RSVP=TRUE;CN="Philip M
 endonça":https://networkinginsurrey.co.uk/profile/PhilipMendonca
END:VEVENT
END:VCALENDAR
