BEGIN:VCALENDAR
PRODID:NingEventWidget-v1
VERSION:2.0
METHOD:PUBLISH
BEGIN:VTIMEZONE
TZID:Europe/London
X-LIC-LOCATION:Europe/London
BEGIN:DAYLIGHT
TZOFFSETFROM:+0000
TZOFFSETTO:+0100
TZNAME:BST
DTSTART:19700329T010000
RRULE:FREQ=YEARLY;BYMONTH=3;BYDAY=-1SU
END:DAYLIGHT
BEGIN:STANDARD
TZOFFSETFROM:+0100
TZOFFSETTO:+0000
TZNAME:GMT
DTSTART:19701025T020000
RRULE:FREQ=YEARLY;BYMONTH=10;BYDAY=-1SU
END:STANDARD
END:VTIMEZONE
BEGIN:VEVENT
UID:4626108:Event:85830
DTSTAMP:20260424T033942Z
SUMMARY:Surrey Directors' BOARD Lunch, Milford
DESCRIPTION:Surrey Directors' Board Lunch \n'The Board' was set up fo
 r senior individuals to discuss business issues with trusted colleague
 s, and to build strong business relationships with a peer group.  \n
 Only one member of each sector or profession can join each Board. The 
 intention is that members attend most monthly Board meetings. Confiden
 tiality of conversations is maintained under the Chatham House rule.\n
 Board meetings are held over lunch - the bill is equally split amongst
  Board members. Visitors can try out The Board at a special rate of £
 25+VAT plus an equal share of the lunch bill.\nCOST: £25+VAT plus lu
 nch costs\nBOOKING: Please CLICK HERE for  more information or ema
 il philip@pealpartnership.co.uk.\nMAP\n\nFor more information visit ht
 tps://networkinginsurrey.co.uk/events/surrey-directors-board-lunch-mil
 ford
DTSTART;TZID=Europe/London:20170315T121500
DTEND;TZID=Europe/London:20170315T143000
CATEGORIES:board, networking
LOCATION:The Harrow, Guildford GU3 1EG
WEBSITE:
URL:
CONTACT:0203 0044779
ORGANIZER;CN="Philip Mendonça":https://networkinginsurrey.co.uk/profi
 le/PhilipMendonca
ATTACH;FMTTYPE="image/jpeg":http://storage.ning.com/topology/rest/1.0/
 file/get/923063544?profile=original
ATTENDEE;ROLE=REQ-PARTICIPANT;PARTSTAT=ACCEPTED;RSVP=TRUE;CN="Philip M
 endonça":https://networkinginsurrey.co.uk/profile/PhilipMendonca
END:VEVENT
END:VCALENDAR
