BEGIN:VCALENDAR
PRODID:NingEventWidget-v1
VERSION:2.0
METHOD:PUBLISH
BEGIN:VTIMEZONE
TZID:Europe/London
X-LIC-LOCATION:Europe/London
BEGIN:DAYLIGHT
TZOFFSETFROM:+0000
TZOFFSETTO:+0100
TZNAME:BST
DTSTART:19700329T010000
RRULE:FREQ=YEARLY;BYMONTH=3;BYDAY=-1SU
END:DAYLIGHT
BEGIN:STANDARD
TZOFFSETFROM:+0100
TZOFFSETTO:+0000
TZNAME:GMT
DTSTART:19701025T020000
RRULE:FREQ=YEARLY;BYMONTH=10;BYDAY=-1SU
END:STANDARD
END:VTIMEZONE
BEGIN:VEVENT
UID:4626108:Event:4213
DTSTAMP:20260424T220319Z
SUMMARY:Surrey Connections Evening, Guildford
DESCRIPTION:Business Scene Surrey Conections with Brad Burton at the H
 oliday Inn Guildford\n\nThis event marks our eighth Surrey Connections
  Networking event which are successfully run by Business Scene around 
 the UK bringing together many of the local business networking groups 
 under one roof, and offering a great opportunity for local businesses 
 to expand their own connections Joining us for this evening offers you
  the opportunity to meet other high calibre business delegates, openly
  network in a relaxed and friendly environment, build strong business 
 relationships and gain valuable information about the issues that most
  affect your business.\nThe inimitable and larger than life character 
 Brad Burton, founder of 4Networking, the UK's fastest growing business
  network, will be addressing us, no doubt in his usual humourous way b
 ut sharing with you some serious insights to help move your business f
 orward.\nCOST: £10 +VAT ( includes drinks and finger food )\nThis eve
 nt brings together many networks and business communities. If you run 
 one and would like to be involved, do get in touch with Andrew Widgery
  - andrew.widgery@business-scene.com. CLICK HERE TO BOOK\nDrinks and f
 ood will also be served and a warm welcome awaits you.\n--------------
 ---------------\nThis event is organised by NiS Member Andrew Widgery.
  Business-Scene regularly run successful Connections events around the
  UK, bringing together many of the local Business Networking groups un
 der one roof, and offering a great opportunity for local businesses to
  expand their own local connections.\n\nFor more information visit htt
 ps://networkinginsurrey.co.uk/events/surrey-connections-evening
DTSTART;TZID=Europe/London:20101103T180000
DTEND;TZID=Europe/London:20101103T203000
CATEGORIES:networking, event
LOCATION:Holiday Inn, Guildford
WEBSITE:http://www.business-scene.com/event_detail.php?e=14643
URL:http://www.business-scene.com/event_detail.php?e=14643
CONTACT:07973 323240
ORGANIZER;CN="Andrew Widgery":https://networkinginsurrey.co.uk/profile
 /AndrewWidgery
ATTACH;FMTTYPE="image/jpeg":http://storage.ning.com/topology/rest/1.0/
 file/get/2591385906?profile=original
ATTENDEE;ROLE=REQ-PARTICIPANT;PARTSTAT=ACCEPTED;RSVP=TRUE;CN="Max Wrig
 ht":https://networkinginsurrey.co.uk/profile/MaxWright
ATTENDEE;ROLE=REQ-PARTICIPANT;PARTSTAT=ACCEPTED;RSVP=TRUE;CN="Keith Gr
 over, NiS Founder":https://networkinginsurrey.co.uk/profile/KeithGrove
 r
ATTENDEE;ROLE=REQ-PARTICIPANT;PARTSTAT=ACCEPTED;RSVP=TRUE;CN="Rosemary
  Hemmett":https://networkinginsurrey.co.uk/profile/RosemaryHemmett
ATTENDEE;ROLE=REQ-PARTICIPANT;PARTSTAT=ACCEPTED;RSVP=TRUE;CN="Annie He
 ggie":https://networkinginsurrey.co.uk/profile/Annie
ATTENDEE;ROLE=REQ-PARTICIPANT;PARTSTAT=ACCEPTED;RSVP=TRUE;CN="Jane Les
 ter":https://networkinginsurrey.co.uk/profile/JaneLester
ATTENDEE;ROLE=REQ-PARTICIPANT;PARTSTAT=ACCEPTED;RSVP=TRUE;CN="Andrew W
 idgery":https://networkinginsurrey.co.uk/profile/AndrewWidgery
ATTENDEE;ROLE=REQ-PARTICIPANT;PARTSTAT=TENTATIVE;RSVP=TRUE;CN="Alan Ro
 gers":https://networkinginsurrey.co.uk/profile/DreamGeniusLtd
END:VEVENT
END:VCALENDAR
