BEGIN:VCALENDAR
PRODID:NingEventWidget-v1
VERSION:2.0
METHOD:PUBLISH
BEGIN:VTIMEZONE
TZID:Europe/London
X-LIC-LOCATION:Europe/London
BEGIN:DAYLIGHT
TZOFFSETFROM:+0000
TZOFFSETTO:+0100
TZNAME:BST
DTSTART:19700329T010000
RRULE:FREQ=YEARLY;BYMONTH=3;BYDAY=-1SU
END:DAYLIGHT
BEGIN:STANDARD
TZOFFSETFROM:+0100
TZOFFSETTO:+0000
TZNAME:GMT
DTSTART:19701025T020000
RRULE:FREQ=YEARLY;BYMONTH=10;BYDAY=-1SU
END:STANDARD
END:VTIMEZONE
BEGIN:VEVENT
UID:4626108:Event:60318
DTSTAMP:20260419T130327Z
SUMMARY:Surrey Chambers Afternoon, Bagshot
DESCRIPTION:Join us for a delicious cream tea and indulge yourself in 
 the totally relaxed, yet buzzy atmosphere of the Pennyhill Park Spa’
 s Themis restaurant.\nThese networking ladies afternoon teas are desig
 ned to give you a regular opportunity to meet with like minded people,
  entertain your clients, share issues and widen your own network of cu
 stomers, suppliers, neighbours and competitors.\nAfter tea you are war
 mly invited to complimentary use the spa’s superb facilitates and ex
 perience life’s stresses and strains melt away. Step through the doo
 r of Pennyhill Park Spa and you’re already on the way to restoring b
 ody and soul.\nCOST: Members £22, Non Members £40\nBOOKING: Please C
 LICK HERE to book or call 01483 735540\nMAP\n\nFor more information 
 visit https://networkinginsurrey.co.uk/events/surrey-chambes-afternoon
 -bagshot
DTSTART;TZID=Europe/London:20130918T153000
DTEND;TZID=Europe/London:20130918T173000
CATEGORIES:afternoon, bagshot
LOCATION:Pennyhill Park GU19 5EU
WEBSITE:http://www.pennyhillpark.co.uk/EXCLUSIVE_HOTELS/the_hotel.aspx
URL:http://www.pennyhillpark.co.uk/EXCLUSIVE_HOTELS/the_hotel.aspx
CONTACT:01483 735540
ORGANIZER:Surrey Chambers of Commerce
ATTACH;FMTTYPE="image/jpeg":http://storage.ning.com/topology/rest/1.0/
 file/get/2591416376?profile=original
ATTENDEE;ROLE=REQ-PARTICIPANT;PARTSTAT=ACCEPTED;RSVP=TRUE;CN="Ella Par
 kes":https://networkinginsurrey.co.uk/profile/EllaParkes
END:VEVENT
END:VCALENDAR
