BEGIN:VCALENDAR
PRODID:NingEventWidget-v1
VERSION:2.0
METHOD:PUBLISH
BEGIN:VTIMEZONE
TZID:Europe/London
X-LIC-LOCATION:Europe/London
BEGIN:DAYLIGHT
TZOFFSETFROM:+0000
TZOFFSETTO:+0100
TZNAME:BST
DTSTART:19700329T010000
RRULE:FREQ=YEARLY;BYMONTH=3;BYDAY=-1SU
END:DAYLIGHT
BEGIN:STANDARD
TZOFFSETFROM:+0100
TZOFFSETTO:+0000
TZNAME:GMT
DTSTART:19701025T020000
RRULE:FREQ=YEARLY;BYMONTH=10;BYDAY=-1SU
END:STANDARD
END:VTIMEZONE
BEGIN:VEVENT
UID:4626108:Event:646
DTSTAMP:20260426T021932Z
SUMMARY:Surrey Chambers, Woking Chamber and the Woking Asian Business 
 Forum Networking Evening, Chertsey
DESCRIPTION:\n\nGuest speaker: Bonita Norris, Global Angels Everest Ex
 pedition\n\n\n\nOn the 23rd March 2010 Bonita will leave for Nepal, em
 barking on her Everest attempt to break a mountaineering record as the
  Youngest British female to climb Everest. In the process, this 21 yea
 r hopes to raise £50,000 for the children’s charity Global Angels. 
 She has recently broken a world record in the Himalayas- where she was
  the youngest woman to summit Manaslu - the world's eighth highest mou
 ntain at 26,748 feet, and a mountain with a death rate of 26%!!\nCome 
 along to a networking evening with canapés and refreshments, and hear
  a short inspirational talk from Bonita Norris about her challenge.\nC
 OST: Members £15 Non-members £20\nWoking Chamber and the Woking Asia
 n Business Forum Members BOOK HERE\nSurrey Chambers Members BOOK HERE\
 nNon-Member? Please click either of the above booking links! You will 
 need to register (free) to be able to book online.\nMAP & DIRECTIONS\n
 VENUE\n\n\nFor more information visit https://networkinginsurrey.co.uk
 /events/surrey-chambers-woking-chamber
DTSTART;TZID=Europe/London:20100223T180000
DTEND;TZID=Europe/London:20100223T200000
CATEGORIES:evening, presentation, ottershaw, chertsey
LOCATION:Foxhills Resort & Spa, Ottershaw, Chertsey KT16 0EL
WEBSITE:http://www.foxhills.co.uk/
URL:http://www.foxhills.co.uk/
CONTACT:
ORGANIZER:Surrey Chambers, Woking Chamber and the Woking Asian Busines
 s Forum
ATTACH;FMTTYPE="image/jpeg":http://storage.ning.com/topology/rest/1.0/
 file/get/2591377136?profile=original
ATTENDEE;ROLE=REQ-PARTICIPANT;PARTSTAT=TENTATIVE;RSVP=TRUE;CN="Keith G
 rover, NiS Founder":https://networkinginsurrey.co.uk/profile/KeithGrov
 er
END:VEVENT
END:VCALENDAR
