BEGIN:VCALENDAR
PRODID:NingEventWidget-v1
VERSION:2.0
METHOD:PUBLISH
BEGIN:VTIMEZONE
TZID:Europe/London
X-LIC-LOCATION:Europe/London
BEGIN:DAYLIGHT
TZOFFSETFROM:+0000
TZOFFSETTO:+0100
TZNAME:BST
DTSTART:19700329T010000
RRULE:FREQ=YEARLY;BYMONTH=3;BYDAY=-1SU
END:DAYLIGHT
BEGIN:STANDARD
TZOFFSETFROM:+0100
TZOFFSETTO:+0000
TZNAME:GMT
DTSTART:19701025T020000
RRULE:FREQ=YEARLY;BYMONTH=10;BYDAY=-1SU
END:STANDARD
END:VTIMEZONE
BEGIN:VEVENT
UID:4626108:Event:46965
DTSTAMP:20260425T161501Z
SUMMARY:Surrey Chambers Conference & Corporate Day, Esher
DESCRIPTION:This event has been cancelled by the organisers\n\n\nFor m
 ore information visit https://networkinginsurrey.co.uk/events/surrey-c
 hambers-conference-corporate-day
DTSTART;TZID=Europe/London:20120914T000000
DTEND;TZID=Europe/London:20120914T235900
CATEGORIES:conference, networking
LOCATION:Sandown Park Racecourse KT10 9AJ
WEBSITE:http://shop.surrey-chambers.co.uk/14-sept-2012-business-is-goo
 d-for-surrey.html
URL:http://shop.surrey-chambers.co.uk/14-sept-2012-business-is-good-fo
 r-surrey.html
CONTACT:01483 735540
ORGANIZER;CN="Sarah L Edwards":https://networkinginsurrey.co.uk/profil
 e/SarahLEdwards
ATTACH;FMTTYPE="image/jpeg":http://storage.ning.com/topology/rest/1.0/
 file/get/2591407201?profile=original
ATTENDEE;ROLE=REQ-PARTICIPANT;PARTSTAT=ACCEPTED;RSVP=TRUE;CN="Sarah L 
 Edwards":https://networkinginsurrey.co.uk/profile/SarahLEdwards
END:VEVENT
END:VCALENDAR
