BEGIN:VCALENDAR
PRODID:NingEventWidget-v1
VERSION:2.0
METHOD:PUBLISH
BEGIN:VTIMEZONE
TZID:Europe/London
X-LIC-LOCATION:Europe/London
BEGIN:DAYLIGHT
TZOFFSETFROM:+0000
TZOFFSETTO:+0100
TZNAME:BST
DTSTART:19700329T010000
RRULE:FREQ=YEARLY;BYMONTH=3;BYDAY=-1SU
END:DAYLIGHT
BEGIN:STANDARD
TZOFFSETFROM:+0100
TZOFFSETTO:+0000
TZNAME:GMT
DTSTART:19701025T020000
RRULE:FREQ=YEARLY;BYMONTH=10;BYDAY=-1SU
END:STANDARD
END:VTIMEZONE
BEGIN:VEVENT
UID:4626108:Event:1632
DTSTAMP:20260425T200735Z
SUMMARY:Surrey Chambers Business Expo, Kempton Park
DESCRIPTION:Surrey Chambers Business Expo, Kempton Park Racecourse\n\n
 Last year's popular North Surrey Business Expo is back - with a new na
 me! This is the second year for Surrey Chambers hosting their free-to-
 attend business exhibition at Kempton Park - another b2b event organis
 ed by The Webster Partnership. Located at the fantastic Kempton Park R
 acecourse this is a great opportunity for you to build upon your Surre
 y and south west London connections.\n\nWhether exhibiting or visiting
 , the Surrey Chambers Business Expo will provide opportunities for loc
 al companies to meet, network, learn, generate new leads and grow thei
 r businesses.\nA programme of free seminars will inform, motivate and 
 inspire visitors to go back to their companies and put in practice the
  many simple, practical tips they will pick up during the day. The exh
 ibition will not only present hundreds of products and services that c
 an help companies become more efficient, but provide invaluable help a
 nd advice.\nCOST: Stands available from only £320 - and you can visit
  for FREE!\nREGISTER HERE to attend free of charge, and book your free
  seminar places\nEXHIBITOR INFO HERE Take a stand for your business!\n
 LATEST LIST OF EXHIBITORS\nMAP\nVENUE\nFREE PARKING in Kempton Park's 
 spacious car parks\n---------------------------------------\nThis even
 t is organised by NiS Member James Webster of The Webster Partnership\
 n\nKempton Park Racecourse photo by Alan Hunt / CC BY-SA 2.0\n\nFor mo
 re information visit https://networkinginsurrey.co.uk/events/surrey-ch
 ambers-business-expo
DTSTART;TZID=Europe/London:20100622T093000
DTEND;TZID=Europe/London:20100622T170000
CATEGORIES:free, exhibition, sunbury, surrey_chambers
LOCATION:Kempton Park Racecourse TW16 5AG
WEBSITE:http://www.surreychambersbusinessexpo.co.uk/index.php
URL:http://www.surreychambersbusinessexpo.co.uk/index.php
CONTACT:0118 973 1976
ORGANIZER:James Webster
ATTACH;FMTTYPE="image/jpeg":http://storage.ning.com/topology/rest/1.0/
 file/get/2591392776?profile=original
ATTENDEE;ROLE=REQ-PARTICIPANT;PARTSTAT=ACCEPTED;RSVP=TRUE;CN="Steve Co
 burn":https://networkinginsurrey.co.uk/profile/SteveCoburn
ATTENDEE;ROLE=REQ-PARTICIPANT;PARTSTAT=ACCEPTED;RSVP=TRUE;CN="Robyn Ha
 tley":https://networkinginsurrey.co.uk/profile/RobynHatley
ATTENDEE;ROLE=REQ-PARTICIPANT;PARTSTAT=ACCEPTED;RSVP=TRUE;CN="Anne-Mar
 ie Stephens":https://networkinginsurrey.co.uk/profile/AnneMarieStephen
 s
ATTENDEE;ROLE=REQ-PARTICIPANT;PARTSTAT=ACCEPTED;RSVP=TRUE;CN="Derek Wi
 lliamson":https://networkinginsurrey.co.uk/profile/DerekWilliamson
ATTENDEE;ROLE=REQ-PARTICIPANT;PARTSTAT=ACCEPTED;RSVP=TRUE;CN="Keith Gr
 over, NiS Founder":https://networkinginsurrey.co.uk/profile/KeithGrove
 r
END:VEVENT
END:VCALENDAR
