BEGIN:VCALENDAR
PRODID:NingEventWidget-v1
VERSION:2.0
METHOD:PUBLISH
BEGIN:VTIMEZONE
TZID:Europe/London
X-LIC-LOCATION:Europe/London
BEGIN:DAYLIGHT
TZOFFSETFROM:+0000
TZOFFSETTO:+0100
TZNAME:BST
DTSTART:19700329T010000
RRULE:FREQ=YEARLY;BYMONTH=3;BYDAY=-1SU
END:DAYLIGHT
BEGIN:STANDARD
TZOFFSETFROM:+0100
TZOFFSETTO:+0000
TZNAME:GMT
DTSTART:19701025T020000
RRULE:FREQ=YEARLY;BYMONTH=10;BYDAY=-1SU
END:STANDARD
END:VTIMEZONE
BEGIN:VEVENT
UID:4626108:Event:18813
DTSTAMP:20260423T210326Z
SUMMARY:Surrey Business Mums Morning, Addlestone
DESCRIPTION:Working Parents Networking at the Waggon & Horses\nA month
 ly event for anyone who works for themselves and has to juggle childca
 re.  An opportunity to network - and you're welcome to bring childre
 n.\nThe meeting format is very relaxed and informal, with no dress cod
 e. There will be a speaker, children of any ages allowed to attend.\nI
 mportant point - it's not JUST for mums, but for anyone who has to jug
 gle childcare and working for themselves\nCOST: FREE - just pay for yo
 ur own teas and coffees\nTO BOOK: Please email Kerri Lister on Info@Bu
 yStudentArt.co.uk MAP\n\nFor more information visit https://networking
 insurrey.co.uk/events/surrey-business-mums-morning
DTSTART;TZID=Europe/London:20110603T100000
DTEND;TZID=Europe/London:20110603T120000
CATEGORIES:ladies, mums, morning, addlestone
LOCATION:waggon & Horses Pub KT15 1QH
WEBSITE:
URL:
CONTACT:
ORGANIZER;CN="Kerri Lister":https://networkinginsurrey.co.uk/profile/K
 erriLister
ATTACH;FMTTYPE="image/jpeg":http://storage.ning.com/topology/rest/1.0/
 file/get/2591393900?profile=original
ATTENDEE;ROLE=REQ-PARTICIPANT;PARTSTAT=ACCEPTED;RSVP=TRUE;CN="Kerri Li
 ster":https://networkinginsurrey.co.uk/profile/KerriLister
END:VEVENT
END:VCALENDAR
