BEGIN:VCALENDAR
PRODID:NingEventWidget-v1
VERSION:2.0
METHOD:PUBLISH
BEGIN:VTIMEZONE
TZID:Europe/London
X-LIC-LOCATION:Europe/London
BEGIN:DAYLIGHT
TZOFFSETFROM:+0000
TZOFFSETTO:+0100
TZNAME:BST
DTSTART:19700329T010000
RRULE:FREQ=YEARLY;BYMONTH=3;BYDAY=-1SU
END:DAYLIGHT
BEGIN:STANDARD
TZOFFSETFROM:+0100
TZOFFSETTO:+0000
TZNAME:GMT
DTSTART:19701025T020000
RRULE:FREQ=YEARLY;BYMONTH=10;BYDAY=-1SU
END:STANDARD
END:VTIMEZONE
BEGIN:VEVENT
UID:4626108:Event:530851
DTSTAMP:20260424T122048Z
SUMMARY:Surrey Business Expo - POSTPONED
DESCRIPTION:\r\nIt's been a challenge trying to re-arrange everyone an
 d everything around a new date and unfortunately the venue had realise
 d that due to the preceding Easter break they could not make the area 
 available to us on the dates as we had originally discussed.\r\nThe ne
 w dates are now confirmed and will not change again for any other reas
 on than Covid!  TUES APRIL 26 - WED APRIL 27   (set-up on Monday APR
 IL 25)    Ultimately our goal is to deliver a worthwhile and product
 ive business experience for our exhibitors.  Whilst we have taken meas
 ures to make the show as safe as possible, we cannot ignore the curren
 t sentiment in the media (as has also been expressed by some of the ex
 hibitors directly to ourselves), and the effect this will have on pote
 ntial visitors.   We made it clear at the outset that the show would 
 not be cancelled and that we would simply move it back by three months
  if we really had to… unfortunately the time has now come for that. 
   All bookings at the Expo are secure and the show is scheduled to ta
 ke place exactly as it was, just at a later date; stand payments, elec
 trical orders and show guide advert bookings will simply be transferre
 d to the new date.     We expect that by the time April comes aro
 und, this spike of the virus will have abated and with warmer weather 
 things will be improved – along with it far more positive headlines.
    We apologise for any inconvenience this may cause, but we want thi
 s to be a worthwhile event for you all, and for that, public (and medi
 a) feelings need to improve so we can guarantee not only footfall, but
  also the increased health and safety of all those that attend.\n\nFor
  more information visit https://networkinginsurrey.co.uk/events/surrey
 -business-expo-postponed-2
DTSTART;TZID=Europe/London:20220118T000000
DTEND;TZID=Europe/London:20220118T235900
CATEGORIES:expo, surrey
LOCATION:Surrey Sperts Park
WEBSITE:
URL:
CONTACT:
ORGANIZER;CN="Paul A Bridgland":https://networkinginsurrey.co.uk/profi
 le/PaulABridgland
ATTACH;FMTTYPE="image/jpeg":https://storage.ning.com/topology/rest/1.0
 /file/get/9983845701?profile=original
ATTENDEE;ROLE=REQ-PARTICIPANT;PARTSTAT=ACCEPTED;RSVP=TRUE;CN="Paul A B
 ridgland":https://networkinginsurrey.co.uk/profile/PaulABridgland
END:VEVENT
END:VCALENDAR
